BEGIN:VCALENDAR
VERSION:2.0
PRODID:-//WAKING GIANT - ECPv6.15.20//NONSGML v1.0//EN
CALSCALE:GREGORIAN
METHOD:PUBLISH
X-WR-CALNAME:WAKING GIANT
X-ORIGINAL-URL:https://wakinggiant.org
X-WR-CALDESC:Events for WAKING GIANT
REFRESH-INTERVAL;VALUE=DURATION:PT1H
X-Robots-Tag:noindex
X-PUBLISHED-TTL:PT1H
BEGIN:VTIMEZONE
TZID:America/Denver
BEGIN:DAYLIGHT
TZOFFSETFROM:-0700
TZOFFSETTO:-0600
TZNAME:MDT
DTSTART:20280312T090000
END:DAYLIGHT
BEGIN:STANDARD
TZOFFSETFROM:-0600
TZOFFSETTO:-0700
TZNAME:MST
DTSTART:20281105T080000
END:STANDARD
BEGIN:DAYLIGHT
TZOFFSETFROM:-0700
TZOFFSETTO:-0600
TZNAME:MDT
DTSTART:20290311T090000
END:DAYLIGHT
BEGIN:STANDARD
TZOFFSETFROM:-0600
TZOFFSETTO:-0700
TZNAME:MST
DTSTART:20291104T080000
END:STANDARD
BEGIN:DAYLIGHT
TZOFFSETFROM:-0700
TZOFFSETTO:-0600
TZNAME:MDT
DTSTART:20300310T090000
END:DAYLIGHT
BEGIN:STANDARD
TZOFFSETFROM:-0600
TZOFFSETTO:-0700
TZNAME:MST
DTSTART:20301103T080000
END:STANDARD
BEGIN:DAYLIGHT
TZOFFSETFROM:-0700
TZOFFSETTO:-0600
TZNAME:MDT
DTSTART:20310309T090000
END:DAYLIGHT
BEGIN:STANDARD
TZOFFSETFROM:-0600
TZOFFSETTO:-0700
TZNAME:MST
DTSTART:20311102T080000
END:STANDARD
END:VTIMEZONE
BEGIN:VEVENT
DTSTART;TZID=America/Denver:20290125T180000
DTEND;TZID=America/Denver:20290125T200000
DTSTAMP:20260424T014725
CREATED:20260226T224206Z
LAST-MODIFIED:20260329T183007Z
UID:10001752-1864058400-1864065600@wakinggiant.org
SUMMARY:Waking Giant Social Gathering @ Mt. Ascension Brewing
DESCRIPTION:Join us for an informal gathering at Mt. Ascension Brewing & Gastropub. Get to know new friends\, or catch up with old comrades — we’d love to see you!
URL:https://wakinggiant.org/event/waking-giant-social-gathering-mt-ascension-brewing-3/2029-01-25/
LOCATION:Mt. Ascension Brewing & Gastropub\, 317 Cruse Avenue\, Helena\, MT\, 59601\, United States
CATEGORIES:Social Gathering
END:VEVENT
BEGIN:VEVENT
DTSTART;TZID=America/Denver:20290208T180000
DTEND;TZID=America/Denver:20290208T200000
DTSTAMP:20260424T014725
CREATED:20260226T224206Z
LAST-MODIFIED:20260329T183007Z
UID:10001550-1865268000-1865275200@wakinggiant.org
SUMMARY:Waking Giant Social Gathering @ Mt. Ascension Brewing
DESCRIPTION:Join us for an informal gathering at Mt. Ascension Brewing & Gastropub. Get to know new friends\, or catch up with old comrades — we’d love to see you!
URL:https://wakinggiant.org/event/waking-giant-social-gathering-mt-ascension-brewing-3/2029-02-08/
LOCATION:Mt. Ascension Brewing & Gastropub\, 317 Cruse Avenue\, Helena\, MT\, 59601\, United States
CATEGORIES:Social Gathering
END:VEVENT
BEGIN:VEVENT
DTSTART;TZID=America/Denver:20290222T180000
DTEND;TZID=America/Denver:20290222T200000
DTSTAMP:20260424T014725
CREATED:20260226T224206Z
LAST-MODIFIED:20260329T183007Z
UID:10001753-1866477600-1866484800@wakinggiant.org
SUMMARY:Waking Giant Social Gathering @ Mt. Ascension Brewing
DESCRIPTION:Join us for an informal gathering at Mt. Ascension Brewing & Gastropub. Get to know new friends\, or catch up with old comrades — we’d love to see you!
URL:https://wakinggiant.org/event/waking-giant-social-gathering-mt-ascension-brewing-3/2029-02-22/
LOCATION:Mt. Ascension Brewing & Gastropub\, 317 Cruse Avenue\, Helena\, MT\, 59601\, United States
CATEGORIES:Social Gathering
END:VEVENT
BEGIN:VEVENT
DTSTART;TZID=America/Denver:20290308T180000
DTEND;TZID=America/Denver:20290308T200000
DTSTAMP:20260424T014725
CREATED:20260226T224206Z
LAST-MODIFIED:20260329T183007Z
UID:10001551-1867687200-1867694400@wakinggiant.org
SUMMARY:Waking Giant Social Gathering @ Mt. Ascension Brewing
DESCRIPTION:Join us for an informal gathering at Mt. Ascension Brewing & Gastropub. Get to know new friends\, or catch up with old comrades — we’d love to see you!
URL:https://wakinggiant.org/event/waking-giant-social-gathering-mt-ascension-brewing-3/2029-03-08/
LOCATION:Mt. Ascension Brewing & Gastropub\, 317 Cruse Avenue\, Helena\, MT\, 59601\, United States
CATEGORIES:Social Gathering
END:VEVENT
BEGIN:VEVENT
DTSTART;TZID=America/Denver:20290322T180000
DTEND;TZID=America/Denver:20290322T200000
DTSTAMP:20260424T014725
CREATED:20260226T224206Z
LAST-MODIFIED:20260329T183007Z
UID:10001754-1868896800-1868904000@wakinggiant.org
SUMMARY:Waking Giant Social Gathering @ Mt. Ascension Brewing
DESCRIPTION:Join us for an informal gathering at Mt. Ascension Brewing & Gastropub. Get to know new friends\, or catch up with old comrades — we’d love to see you!
URL:https://wakinggiant.org/event/waking-giant-social-gathering-mt-ascension-brewing-3/2029-03-22/
LOCATION:Mt. Ascension Brewing & Gastropub\, 317 Cruse Avenue\, Helena\, MT\, 59601\, United States
CATEGORIES:Social Gathering
END:VEVENT
BEGIN:VEVENT
DTSTART;TZID=America/Denver:20290405T180000
DTEND;TZID=America/Denver:20290405T200000
DTSTAMP:20260424T014725
CREATED:20260226T224206Z
LAST-MODIFIED:20260329T183007Z
UID:10001755-1870106400-1870113600@wakinggiant.org
SUMMARY:Waking Giant Social Gathering @ Mt. Ascension Brewing
DESCRIPTION:Join us for an informal gathering at Mt. Ascension Brewing & Gastropub. Get to know new friends\, or catch up with old comrades — we’d love to see you!
URL:https://wakinggiant.org/event/waking-giant-social-gathering-mt-ascension-brewing-3/2029-04-05/
LOCATION:Mt. Ascension Brewing & Gastropub\, 317 Cruse Avenue\, Helena\, MT\, 59601\, United States
CATEGORIES:Social Gathering
END:VEVENT
BEGIN:VEVENT
DTSTART;TZID=America/Denver:20290419T180000
DTEND;TZID=America/Denver:20290419T200000
DTSTAMP:20260424T014725
CREATED:20260226T224206Z
LAST-MODIFIED:20260329T183007Z
UID:10001756-1871316000-1871323200@wakinggiant.org
SUMMARY:Waking Giant Social Gathering @ Mt. Ascension Brewing
DESCRIPTION:Join us for an informal gathering at Mt. Ascension Brewing & Gastropub. Get to know new friends\, or catch up with old comrades — we’d love to see you!
URL:https://wakinggiant.org/event/waking-giant-social-gathering-mt-ascension-brewing-3/2029-04-19/
LOCATION:Mt. Ascension Brewing & Gastropub\, 317 Cruse Avenue\, Helena\, MT\, 59601\, United States
CATEGORIES:Social Gathering
END:VEVENT
BEGIN:VEVENT
DTSTART;TZID=America/Denver:20290503T180000
DTEND;TZID=America/Denver:20290503T200000
DTSTAMP:20260424T014725
CREATED:20260226T224206Z
LAST-MODIFIED:20260329T183007Z
UID:10001757-1872525600-1872532800@wakinggiant.org
SUMMARY:Waking Giant Social Gathering @ Mt. Ascension Brewing
DESCRIPTION:Join us for an informal gathering at Mt. Ascension Brewing & Gastropub. Get to know new friends\, or catch up with old comrades — we’d love to see you!
URL:https://wakinggiant.org/event/waking-giant-social-gathering-mt-ascension-brewing-3/2029-05-03/
LOCATION:Mt. Ascension Brewing & Gastropub\, 317 Cruse Avenue\, Helena\, MT\, 59601\, United States
CATEGORIES:Social Gathering
END:VEVENT
BEGIN:VEVENT
DTSTART;TZID=America/Denver:20290517T180000
DTEND;TZID=America/Denver:20290517T200000
DTSTAMP:20260424T014725
CREATED:20260226T224206Z
LAST-MODIFIED:20260329T183007Z
UID:10001758-1873735200-1873742400@wakinggiant.org
SUMMARY:Waking Giant Social Gathering @ Mt. Ascension Brewing
DESCRIPTION:Join us for an informal gathering at Mt. Ascension Brewing & Gastropub. Get to know new friends\, or catch up with old comrades — we’d love to see you!
URL:https://wakinggiant.org/event/waking-giant-social-gathering-mt-ascension-brewing-3/2029-05-17/
LOCATION:Mt. Ascension Brewing & Gastropub\, 317 Cruse Avenue\, Helena\, MT\, 59601\, United States
CATEGORIES:Social Gathering
END:VEVENT
BEGIN:VEVENT
DTSTART;TZID=America/Denver:20290531T180000
DTEND;TZID=America/Denver:20290531T200000
DTSTAMP:20260424T014725
CREATED:20260226T224206Z
LAST-MODIFIED:20260329T183007Z
UID:10001759-1874944800-1874952000@wakinggiant.org
SUMMARY:Waking Giant Social Gathering @ Mt. Ascension Brewing
DESCRIPTION:Join us for an informal gathering at Mt. Ascension Brewing & Gastropub. Get to know new friends\, or catch up with old comrades — we’d love to see you!
URL:https://wakinggiant.org/event/waking-giant-social-gathering-mt-ascension-brewing-3/2029-05-31/
LOCATION:Mt. Ascension Brewing & Gastropub\, 317 Cruse Avenue\, Helena\, MT\, 59601\, United States
CATEGORIES:Social Gathering
END:VEVENT
BEGIN:VEVENT
DTSTART;TZID=America/Denver:20290614T180000
DTEND;TZID=America/Denver:20290614T200000
DTSTAMP:20260424T014725
CREATED:20260226T224206Z
LAST-MODIFIED:20260329T183007Z
UID:10001554-1876154400-1876161600@wakinggiant.org
SUMMARY:Waking Giant Social Gathering @ Mt. Ascension Brewing
DESCRIPTION:Join us for an informal gathering at Mt. Ascension Brewing & Gastropub. Get to know new friends\, or catch up with old comrades — we’d love to see you!
URL:https://wakinggiant.org/event/waking-giant-social-gathering-mt-ascension-brewing-3/2029-06-14/
LOCATION:Mt. Ascension Brewing & Gastropub\, 317 Cruse Avenue\, Helena\, MT\, 59601\, United States
CATEGORIES:Social Gathering
END:VEVENT
BEGIN:VEVENT
DTSTART;TZID=America/Denver:20290628T180000
DTEND;TZID=America/Denver:20290628T200000
DTSTAMP:20260424T014725
CREATED:20260226T224206Z
LAST-MODIFIED:20260329T183007Z
UID:10001760-1877364000-1877371200@wakinggiant.org
SUMMARY:Waking Giant Social Gathering @ Mt. Ascension Brewing
DESCRIPTION:Join us for an informal gathering at Mt. Ascension Brewing & Gastropub. Get to know new friends\, or catch up with old comrades — we’d love to see you!
URL:https://wakinggiant.org/event/waking-giant-social-gathering-mt-ascension-brewing-3/2029-06-28/
LOCATION:Mt. Ascension Brewing & Gastropub\, 317 Cruse Avenue\, Helena\, MT\, 59601\, United States
CATEGORIES:Social Gathering
END:VEVENT
BEGIN:VEVENT
DTSTART;TZID=America/Denver:20290712T180000
DTEND;TZID=America/Denver:20290712T200000
DTSTAMP:20260424T014725
CREATED:20260226T224206Z
LAST-MODIFIED:20260329T183007Z
UID:10001555-1878573600-1878580800@wakinggiant.org
SUMMARY:Waking Giant Social Gathering @ Mt. Ascension Brewing
DESCRIPTION:Join us for an informal gathering at Mt. Ascension Brewing & Gastropub. Get to know new friends\, or catch up with old comrades — we’d love to see you!
URL:https://wakinggiant.org/event/waking-giant-social-gathering-mt-ascension-brewing-3/2029-07-12/
LOCATION:Mt. Ascension Brewing & Gastropub\, 317 Cruse Avenue\, Helena\, MT\, 59601\, United States
CATEGORIES:Social Gathering
END:VEVENT
BEGIN:VEVENT
DTSTART;TZID=America/Denver:20290726T180000
DTEND;TZID=America/Denver:20290726T200000
DTSTAMP:20260424T014725
CREATED:20260226T224206Z
LAST-MODIFIED:20260329T183007Z
UID:10001761-1879783200-1879790400@wakinggiant.org
SUMMARY:Waking Giant Social Gathering @ Mt. Ascension Brewing
DESCRIPTION:Join us for an informal gathering at Mt. Ascension Brewing & Gastropub. Get to know new friends\, or catch up with old comrades — we’d love to see you!
URL:https://wakinggiant.org/event/waking-giant-social-gathering-mt-ascension-brewing-3/2029-07-26/
LOCATION:Mt. Ascension Brewing & Gastropub\, 317 Cruse Avenue\, Helena\, MT\, 59601\, United States
CATEGORIES:Social Gathering
END:VEVENT
BEGIN:VEVENT
DTSTART;TZID=America/Denver:20290809T180000
DTEND;TZID=America/Denver:20290809T200000
DTSTAMP:20260424T014725
CREATED:20260226T224206Z
LAST-MODIFIED:20260329T183007Z
UID:10001556-1880992800-1881000000@wakinggiant.org
SUMMARY:Waking Giant Social Gathering @ Mt. Ascension Brewing
DESCRIPTION:Join us for an informal gathering at Mt. Ascension Brewing & Gastropub. Get to know new friends\, or catch up with old comrades — we’d love to see you!
URL:https://wakinggiant.org/event/waking-giant-social-gathering-mt-ascension-brewing-3/2029-08-09/
LOCATION:Mt. Ascension Brewing & Gastropub\, 317 Cruse Avenue\, Helena\, MT\, 59601\, United States
CATEGORIES:Social Gathering
END:VEVENT
BEGIN:VEVENT
DTSTART;TZID=America/Denver:20290823T180000
DTEND;TZID=America/Denver:20290823T200000
DTSTAMP:20260424T014725
CREATED:20260226T224206Z
LAST-MODIFIED:20260329T183007Z
UID:10001762-1882202400-1882209600@wakinggiant.org
SUMMARY:Waking Giant Social Gathering @ Mt. Ascension Brewing
DESCRIPTION:Join us for an informal gathering at Mt. Ascension Brewing & Gastropub. Get to know new friends\, or catch up with old comrades — we’d love to see you!
URL:https://wakinggiant.org/event/waking-giant-social-gathering-mt-ascension-brewing-3/2029-08-23/
LOCATION:Mt. Ascension Brewing & Gastropub\, 317 Cruse Avenue\, Helena\, MT\, 59601\, United States
CATEGORIES:Social Gathering
END:VEVENT
BEGIN:VEVENT
DTSTART;TZID=America/Denver:20290906T180000
DTEND;TZID=America/Denver:20290906T200000
DTSTAMP:20260424T014725
CREATED:20260226T224206Z
LAST-MODIFIED:20260329T183007Z
UID:10001763-1883412000-1883419200@wakinggiant.org
SUMMARY:Waking Giant Social Gathering @ Mt. Ascension Brewing
DESCRIPTION:Join us for an informal gathering at Mt. Ascension Brewing & Gastropub. Get to know new friends\, or catch up with old comrades — we’d love to see you!
URL:https://wakinggiant.org/event/waking-giant-social-gathering-mt-ascension-brewing-3/2029-09-06/
LOCATION:Mt. Ascension Brewing & Gastropub\, 317 Cruse Avenue\, Helena\, MT\, 59601\, United States
CATEGORIES:Social Gathering
END:VEVENT
BEGIN:VEVENT
DTSTART;TZID=America/Denver:20290920T180000
DTEND;TZID=America/Denver:20290920T200000
DTSTAMP:20260424T014725
CREATED:20260226T224206Z
LAST-MODIFIED:20260329T183007Z
UID:10001764-1884621600-1884628800@wakinggiant.org
SUMMARY:Waking Giant Social Gathering @ Mt. Ascension Brewing
DESCRIPTION:Join us for an informal gathering at Mt. Ascension Brewing & Gastropub. Get to know new friends\, or catch up with old comrades — we’d love to see you!
URL:https://wakinggiant.org/event/waking-giant-social-gathering-mt-ascension-brewing-3/2029-09-20/
LOCATION:Mt. Ascension Brewing & Gastropub\, 317 Cruse Avenue\, Helena\, MT\, 59601\, United States
CATEGORIES:Social Gathering
END:VEVENT
BEGIN:VEVENT
DTSTART;TZID=America/Denver:20291004T180000
DTEND;TZID=America/Denver:20291004T200000
DTSTAMP:20260424T014725
CREATED:20260226T224206Z
LAST-MODIFIED:20260329T183007Z
UID:10001765-1885831200-1885838400@wakinggiant.org
SUMMARY:Waking Giant Social Gathering @ Mt. Ascension Brewing
DESCRIPTION:Join us for an informal gathering at Mt. Ascension Brewing & Gastropub. Get to know new friends\, or catch up with old comrades — we’d love to see you!
URL:https://wakinggiant.org/event/waking-giant-social-gathering-mt-ascension-brewing-3/2029-10-04/
LOCATION:Mt. Ascension Brewing & Gastropub\, 317 Cruse Avenue\, Helena\, MT\, 59601\, United States
CATEGORIES:Social Gathering
END:VEVENT
BEGIN:VEVENT
DTSTART;TZID=America/Denver:20291018T180000
DTEND;TZID=America/Denver:20291018T200000
DTSTAMP:20260424T014725
CREATED:20260226T224206Z
LAST-MODIFIED:20260329T183007Z
UID:10001766-1887040800-1887048000@wakinggiant.org
SUMMARY:Waking Giant Social Gathering @ Mt. Ascension Brewing
DESCRIPTION:Join us for an informal gathering at Mt. Ascension Brewing & Gastropub. Get to know new friends\, or catch up with old comrades — we’d love to see you!
URL:https://wakinggiant.org/event/waking-giant-social-gathering-mt-ascension-brewing-3/2029-10-18/
LOCATION:Mt. Ascension Brewing & Gastropub\, 317 Cruse Avenue\, Helena\, MT\, 59601\, United States
CATEGORIES:Social Gathering
END:VEVENT
BEGIN:VEVENT
DTSTART;TZID=America/Denver:20291101T180000
DTEND;TZID=America/Denver:20291101T200000
DTSTAMP:20260424T014725
CREATED:20260226T224206Z
LAST-MODIFIED:20260329T183007Z
UID:10001767-1888250400-1888257600@wakinggiant.org
SUMMARY:Waking Giant Social Gathering @ Mt. Ascension Brewing
DESCRIPTION:Join us for an informal gathering at Mt. Ascension Brewing & Gastropub. Get to know new friends\, or catch up with old comrades — we’d love to see you!
URL:https://wakinggiant.org/event/waking-giant-social-gathering-mt-ascension-brewing-3/2029-11-01/
LOCATION:Mt. Ascension Brewing & Gastropub\, 317 Cruse Avenue\, Helena\, MT\, 59601\, United States
CATEGORIES:Social Gathering
END:VEVENT
BEGIN:VEVENT
DTSTART;TZID=America/Denver:20291115T180000
DTEND;TZID=America/Denver:20291115T200000
DTSTAMP:20260424T014725
CREATED:20260226T224206Z
LAST-MODIFIED:20260329T183007Z
UID:10001768-1889460000-1889467200@wakinggiant.org
SUMMARY:Waking Giant Social Gathering @ Mt. Ascension Brewing
DESCRIPTION:Join us for an informal gathering at Mt. Ascension Brewing & Gastropub. Get to know new friends\, or catch up with old comrades — we’d love to see you!
URL:https://wakinggiant.org/event/waking-giant-social-gathering-mt-ascension-brewing-3/2029-11-15/
LOCATION:Mt. Ascension Brewing & Gastropub\, 317 Cruse Avenue\, Helena\, MT\, 59601\, United States
CATEGORIES:Social Gathering
END:VEVENT
BEGIN:VEVENT
DTSTART;TZID=America/Denver:20291129T180000
DTEND;TZID=America/Denver:20291129T200000
DTSTAMP:20260424T014725
CREATED:20260226T224206Z
LAST-MODIFIED:20260329T183007Z
UID:10001769-1890669600-1890676800@wakinggiant.org
SUMMARY:Waking Giant Social Gathering @ Mt. Ascension Brewing
DESCRIPTION:Join us for an informal gathering at Mt. Ascension Brewing & Gastropub. Get to know new friends\, or catch up with old comrades — we’d love to see you!
URL:https://wakinggiant.org/event/waking-giant-social-gathering-mt-ascension-brewing-3/2029-11-29/
LOCATION:Mt. Ascension Brewing & Gastropub\, 317 Cruse Avenue\, Helena\, MT\, 59601\, United States
CATEGORIES:Social Gathering
END:VEVENT
BEGIN:VEVENT
DTSTART;TZID=America/Denver:20291213T180000
DTEND;TZID=America/Denver:20291213T200000
DTSTAMP:20260424T014725
CREATED:20260226T224206Z
LAST-MODIFIED:20260329T183007Z
UID:10001560-1891879200-1891886400@wakinggiant.org
SUMMARY:Waking Giant Social Gathering @ Mt. Ascension Brewing
DESCRIPTION:Join us for an informal gathering at Mt. Ascension Brewing & Gastropub. Get to know new friends\, or catch up with old comrades — we’d love to see you!
URL:https://wakinggiant.org/event/waking-giant-social-gathering-mt-ascension-brewing-3/2029-12-13/
LOCATION:Mt. Ascension Brewing & Gastropub\, 317 Cruse Avenue\, Helena\, MT\, 59601\, United States
CATEGORIES:Social Gathering
END:VEVENT
BEGIN:VEVENT
DTSTART;TZID=America/Denver:20291227T180000
DTEND;TZID=America/Denver:20291227T200000
DTSTAMP:20260424T014725
CREATED:20260226T224206Z
LAST-MODIFIED:20260329T183007Z
UID:10001770-1893088800-1893096000@wakinggiant.org
SUMMARY:Waking Giant Social Gathering @ Mt. Ascension Brewing
DESCRIPTION:Join us for an informal gathering at Mt. Ascension Brewing & Gastropub. Get to know new friends\, or catch up with old comrades — we’d love to see you!
URL:https://wakinggiant.org/event/waking-giant-social-gathering-mt-ascension-brewing-3/2029-12-27/
LOCATION:Mt. Ascension Brewing & Gastropub\, 317 Cruse Avenue\, Helena\, MT\, 59601\, United States
CATEGORIES:Social Gathering
END:VEVENT
BEGIN:VEVENT
DTSTART;TZID=America/Denver:20300110T180000
DTEND;TZID=America/Denver:20300110T200000
DTSTAMP:20260424T014725
CREATED:20260226T224206Z
LAST-MODIFIED:20260329T183007Z
UID:10001561-1894298400-1894305600@wakinggiant.org
SUMMARY:Waking Giant Social Gathering @ Mt. Ascension Brewing
DESCRIPTION:Join us for an informal gathering at Mt. Ascension Brewing & Gastropub. Get to know new friends\, or catch up with old comrades — we’d love to see you!
URL:https://wakinggiant.org/event/waking-giant-social-gathering-mt-ascension-brewing-3/2030-01-10/
LOCATION:Mt. Ascension Brewing & Gastropub\, 317 Cruse Avenue\, Helena\, MT\, 59601\, United States
CATEGORIES:Social Gathering
END:VEVENT
BEGIN:VEVENT
DTSTART;TZID=America/Denver:20300124T180000
DTEND;TZID=America/Denver:20300124T200000
DTSTAMP:20260424T014725
CREATED:20260226T224206Z
LAST-MODIFIED:20260329T183007Z
UID:10001771-1895508000-1895515200@wakinggiant.org
SUMMARY:Waking Giant Social Gathering @ Mt. Ascension Brewing
DESCRIPTION:Join us for an informal gathering at Mt. Ascension Brewing & Gastropub. Get to know new friends\, or catch up with old comrades — we’d love to see you!
URL:https://wakinggiant.org/event/waking-giant-social-gathering-mt-ascension-brewing-3/2030-01-24/
LOCATION:Mt. Ascension Brewing & Gastropub\, 317 Cruse Avenue\, Helena\, MT\, 59601\, United States
CATEGORIES:Social Gathering
END:VEVENT
BEGIN:VEVENT
DTSTART;TZID=America/Denver:20300207T180000
DTEND;TZID=America/Denver:20300207T200000
DTSTAMP:20260424T014725
CREATED:20260226T224206Z
LAST-MODIFIED:20260329T183007Z
UID:10001772-1896717600-1896724800@wakinggiant.org
SUMMARY:Waking Giant Social Gathering @ Mt. Ascension Brewing
DESCRIPTION:Join us for an informal gathering at Mt. Ascension Brewing & Gastropub. Get to know new friends\, or catch up with old comrades — we’d love to see you!
URL:https://wakinggiant.org/event/waking-giant-social-gathering-mt-ascension-brewing-3/2030-02-07/
LOCATION:Mt. Ascension Brewing & Gastropub\, 317 Cruse Avenue\, Helena\, MT\, 59601\, United States
CATEGORIES:Social Gathering
END:VEVENT
BEGIN:VEVENT
DTSTART;TZID=America/Denver:20300221T180000
DTEND;TZID=America/Denver:20300221T200000
DTSTAMP:20260424T014725
CREATED:20260226T224206Z
LAST-MODIFIED:20260329T183007Z
UID:10001773-1897927200-1897934400@wakinggiant.org
SUMMARY:Waking Giant Social Gathering @ Mt. Ascension Brewing
DESCRIPTION:Join us for an informal gathering at Mt. Ascension Brewing & Gastropub. Get to know new friends\, or catch up with old comrades — we’d love to see you!
URL:https://wakinggiant.org/event/waking-giant-social-gathering-mt-ascension-brewing-3/2030-02-21/
LOCATION:Mt. Ascension Brewing & Gastropub\, 317 Cruse Avenue\, Helena\, MT\, 59601\, United States
CATEGORIES:Social Gathering
END:VEVENT
BEGIN:VEVENT
DTSTART;TZID=America/Denver:20300307T180000
DTEND;TZID=America/Denver:20300307T200000
DTSTAMP:20260424T014725
CREATED:20260226T224206Z
LAST-MODIFIED:20260329T183007Z
UID:10001774-1899136800-1899144000@wakinggiant.org
SUMMARY:Waking Giant Social Gathering @ Mt. Ascension Brewing
DESCRIPTION:Join us for an informal gathering at Mt. Ascension Brewing & Gastropub. Get to know new friends\, or catch up with old comrades — we’d love to see you!
URL:https://wakinggiant.org/event/waking-giant-social-gathering-mt-ascension-brewing-3/2030-03-07/
LOCATION:Mt. Ascension Brewing & Gastropub\, 317 Cruse Avenue\, Helena\, MT\, 59601\, United States
CATEGORIES:Social Gathering
END:VEVENT
END:VCALENDAR