BEGIN:VCALENDAR
VERSION:2.0
PRODID:-//WAKING GIANT - ECPv6.15.20//NONSGML v1.0//EN
CALSCALE:GREGORIAN
METHOD:PUBLISH
X-ORIGINAL-URL:https://wakinggiant.org
X-WR-CALDESC:Events for WAKING GIANT
REFRESH-INTERVAL;VALUE=DURATION:PT1H
X-Robots-Tag:noindex
X-PUBLISHED-TTL:PT1H
BEGIN:VTIMEZONE
TZID:America/Denver
BEGIN:DAYLIGHT
TZOFFSETFROM:-0700
TZOFFSETTO:-0600
TZNAME:MDT
DTSTART:20260308T090000
END:DAYLIGHT
BEGIN:STANDARD
TZOFFSETFROM:-0600
TZOFFSETTO:-0700
TZNAME:MST
DTSTART:20261101T080000
END:STANDARD
BEGIN:DAYLIGHT
TZOFFSETFROM:-0700
TZOFFSETTO:-0600
TZNAME:MDT
DTSTART:20270314T090000
END:DAYLIGHT
BEGIN:STANDARD
TZOFFSETFROM:-0600
TZOFFSETTO:-0700
TZNAME:MST
DTSTART:20271107T080000
END:STANDARD
BEGIN:DAYLIGHT
TZOFFSETFROM:-0700
TZOFFSETTO:-0600
TZNAME:MDT
DTSTART:20280312T090000
END:DAYLIGHT
BEGIN:STANDARD
TZOFFSETFROM:-0600
TZOFFSETTO:-0700
TZNAME:MST
DTSTART:20281105T080000
END:STANDARD
BEGIN:DAYLIGHT
TZOFFSETFROM:-0700
TZOFFSETTO:-0600
TZNAME:MDT
DTSTART:20290311T090000
END:DAYLIGHT
BEGIN:STANDARD
TZOFFSETFROM:-0600
TZOFFSETTO:-0700
TZNAME:MST
DTSTART:20291104T080000
END:STANDARD
END:VTIMEZONE
BEGIN:VEVENT
DTSTART;TZID=America/Denver:20271021T180000
DTEND;TZID=America/Denver:20271021T200000
DTSTAMP:20260424T060730
CREATED:20260226T224206Z
LAST-MODIFIED:20260329T183007Z
UID:10001726-1824141600-1824148800@wakinggiant.org
SUMMARY:Waking Giant Social Gathering @ Mt. Ascension Brewing
DESCRIPTION:Join us for an informal gathering at Mt. Ascension Brewing & Gastropub. Get to know new friends\, or catch up with old comrades — we’d love to see you!
URL:https://wakinggiant.org/event/waking-giant-social-gathering-mt-ascension-brewing-3/2027-10-21/
LOCATION:Mt. Ascension Brewing & Gastropub\, 317 Cruse Avenue\, Helena\, MT\, 59601\, United States
CATEGORIES:Social Gathering
END:VEVENT
BEGIN:VEVENT
DTSTART;TZID=America/Denver:20271104T180000
DTEND;TZID=America/Denver:20271104T200000
DTSTAMP:20260424T060730
CREATED:20260226T224206Z
LAST-MODIFIED:20260329T183007Z
UID:10001727-1825351200-1825358400@wakinggiant.org
SUMMARY:Waking Giant Social Gathering @ Mt. Ascension Brewing
DESCRIPTION:Join us for an informal gathering at Mt. Ascension Brewing & Gastropub. Get to know new friends\, or catch up with old comrades — we’d love to see you!
URL:https://wakinggiant.org/event/waking-giant-social-gathering-mt-ascension-brewing-3/2027-11-04/
LOCATION:Mt. Ascension Brewing & Gastropub\, 317 Cruse Avenue\, Helena\, MT\, 59601\, United States
CATEGORIES:Social Gathering
END:VEVENT
BEGIN:VEVENT
DTSTART;TZID=America/Denver:20271118T180000
DTEND;TZID=America/Denver:20271118T200000
DTSTAMP:20260424T060730
CREATED:20260226T224206Z
LAST-MODIFIED:20260329T183007Z
UID:10001728-1826560800-1826568000@wakinggiant.org
SUMMARY:Waking Giant Social Gathering @ Mt. Ascension Brewing
DESCRIPTION:Join us for an informal gathering at Mt. Ascension Brewing & Gastropub. Get to know new friends\, or catch up with old comrades — we’d love to see you!
URL:https://wakinggiant.org/event/waking-giant-social-gathering-mt-ascension-brewing-3/2027-11-18/
LOCATION:Mt. Ascension Brewing & Gastropub\, 317 Cruse Avenue\, Helena\, MT\, 59601\, United States
CATEGORIES:Social Gathering
END:VEVENT
BEGIN:VEVENT
DTSTART;TZID=America/Denver:20271202T180000
DTEND;TZID=America/Denver:20271202T200000
DTSTAMP:20260424T060730
CREATED:20260226T224206Z
LAST-MODIFIED:20260329T183007Z
UID:10001729-1827770400-1827777600@wakinggiant.org
SUMMARY:Waking Giant Social Gathering @ Mt. Ascension Brewing
DESCRIPTION:Join us for an informal gathering at Mt. Ascension Brewing & Gastropub. Get to know new friends\, or catch up with old comrades — we’d love to see you!
URL:https://wakinggiant.org/event/waking-giant-social-gathering-mt-ascension-brewing-3/2027-12-02/
LOCATION:Mt. Ascension Brewing & Gastropub\, 317 Cruse Avenue\, Helena\, MT\, 59601\, United States
CATEGORIES:Social Gathering
END:VEVENT
BEGIN:VEVENT
DTSTART;TZID=America/Denver:20271216T180000
DTEND;TZID=America/Denver:20271216T200000
DTSTAMP:20260424T060730
CREATED:20260226T224206Z
LAST-MODIFIED:20260329T183007Z
UID:10001730-1828980000-1828987200@wakinggiant.org
SUMMARY:Waking Giant Social Gathering @ Mt. Ascension Brewing
DESCRIPTION:Join us for an informal gathering at Mt. Ascension Brewing & Gastropub. Get to know new friends\, or catch up with old comrades — we’d love to see you!
URL:https://wakinggiant.org/event/waking-giant-social-gathering-mt-ascension-brewing-3/2027-12-16/
LOCATION:Mt. Ascension Brewing & Gastropub\, 317 Cruse Avenue\, Helena\, MT\, 59601\, United States
CATEGORIES:Social Gathering
END:VEVENT
BEGIN:VEVENT
DTSTART;TZID=America/Denver:20271230T180000
DTEND;TZID=America/Denver:20271230T200000
DTSTAMP:20260424T060730
CREATED:20260226T224206Z
LAST-MODIFIED:20260329T183007Z
UID:10001731-1830189600-1830196800@wakinggiant.org
SUMMARY:Waking Giant Social Gathering @ Mt. Ascension Brewing
DESCRIPTION:Join us for an informal gathering at Mt. Ascension Brewing & Gastropub. Get to know new friends\, or catch up with old comrades — we’d love to see you!
URL:https://wakinggiant.org/event/waking-giant-social-gathering-mt-ascension-brewing-3/2027-12-30/
LOCATION:Mt. Ascension Brewing & Gastropub\, 317 Cruse Avenue\, Helena\, MT\, 59601\, United States
CATEGORIES:Social Gathering
END:VEVENT
BEGIN:VEVENT
DTSTART;TZID=America/Denver:20280113T180000
DTEND;TZID=America/Denver:20280113T200000
DTSTAMP:20260424T060730
CREATED:20260226T224206Z
LAST-MODIFIED:20260329T183007Z
UID:10001537-1831399200-1831406400@wakinggiant.org
SUMMARY:Waking Giant Social Gathering @ Mt. Ascension Brewing
DESCRIPTION:Join us for an informal gathering at Mt. Ascension Brewing & Gastropub. Get to know new friends\, or catch up with old comrades — we’d love to see you!
URL:https://wakinggiant.org/event/waking-giant-social-gathering-mt-ascension-brewing-3/2028-01-13/
LOCATION:Mt. Ascension Brewing & Gastropub\, 317 Cruse Avenue\, Helena\, MT\, 59601\, United States
CATEGORIES:Social Gathering
END:VEVENT
BEGIN:VEVENT
DTSTART;TZID=America/Denver:20280127T180000
DTEND;TZID=America/Denver:20280127T200000
DTSTAMP:20260424T060730
CREATED:20260226T224206Z
LAST-MODIFIED:20260329T183007Z
UID:10001732-1832608800-1832616000@wakinggiant.org
SUMMARY:Waking Giant Social Gathering @ Mt. Ascension Brewing
DESCRIPTION:Join us for an informal gathering at Mt. Ascension Brewing & Gastropub. Get to know new friends\, or catch up with old comrades — we’d love to see you!
URL:https://wakinggiant.org/event/waking-giant-social-gathering-mt-ascension-brewing-3/2028-01-27/
LOCATION:Mt. Ascension Brewing & Gastropub\, 317 Cruse Avenue\, Helena\, MT\, 59601\, United States
CATEGORIES:Social Gathering
END:VEVENT
BEGIN:VEVENT
DTSTART;TZID=America/Denver:20280210T180000
DTEND;TZID=America/Denver:20280210T200000
DTSTAMP:20260424T060730
CREATED:20260226T224206Z
LAST-MODIFIED:20260329T183007Z
UID:10001538-1833818400-1833825600@wakinggiant.org
SUMMARY:Waking Giant Social Gathering @ Mt. Ascension Brewing
DESCRIPTION:Join us for an informal gathering at Mt. Ascension Brewing & Gastropub. Get to know new friends\, or catch up with old comrades — we’d love to see you!
URL:https://wakinggiant.org/event/waking-giant-social-gathering-mt-ascension-brewing-3/2028-02-10/
LOCATION:Mt. Ascension Brewing & Gastropub\, 317 Cruse Avenue\, Helena\, MT\, 59601\, United States
CATEGORIES:Social Gathering
END:VEVENT
BEGIN:VEVENT
DTSTART;TZID=America/Denver:20280224T180000
DTEND;TZID=America/Denver:20280224T200000
DTSTAMP:20260424T060730
CREATED:20260226T224206Z
LAST-MODIFIED:20260329T183007Z
UID:10001733-1835028000-1835035200@wakinggiant.org
SUMMARY:Waking Giant Social Gathering @ Mt. Ascension Brewing
DESCRIPTION:Join us for an informal gathering at Mt. Ascension Brewing & Gastropub. Get to know new friends\, or catch up with old comrades — we’d love to see you!
URL:https://wakinggiant.org/event/waking-giant-social-gathering-mt-ascension-brewing-3/2028-02-24/
LOCATION:Mt. Ascension Brewing & Gastropub\, 317 Cruse Avenue\, Helena\, MT\, 59601\, United States
CATEGORIES:Social Gathering
END:VEVENT
BEGIN:VEVENT
DTSTART;TZID=America/Denver:20280309T180000
DTEND;TZID=America/Denver:20280309T200000
DTSTAMP:20260424T060730
CREATED:20260226T224206Z
LAST-MODIFIED:20260329T183007Z
UID:10001539-1836237600-1836244800@wakinggiant.org
SUMMARY:Waking Giant Social Gathering @ Mt. Ascension Brewing
DESCRIPTION:Join us for an informal gathering at Mt. Ascension Brewing & Gastropub. Get to know new friends\, or catch up with old comrades — we’d love to see you!
URL:https://wakinggiant.org/event/waking-giant-social-gathering-mt-ascension-brewing-3/2028-03-09/
LOCATION:Mt. Ascension Brewing & Gastropub\, 317 Cruse Avenue\, Helena\, MT\, 59601\, United States
CATEGORIES:Social Gathering
END:VEVENT
BEGIN:VEVENT
DTSTART;TZID=America/Denver:20280323T180000
DTEND;TZID=America/Denver:20280323T200000
DTSTAMP:20260424T060730
CREATED:20260226T224206Z
LAST-MODIFIED:20260329T183007Z
UID:10001734-1837447200-1837454400@wakinggiant.org
SUMMARY:Waking Giant Social Gathering @ Mt. Ascension Brewing
DESCRIPTION:Join us for an informal gathering at Mt. Ascension Brewing & Gastropub. Get to know new friends\, or catch up with old comrades — we’d love to see you!
URL:https://wakinggiant.org/event/waking-giant-social-gathering-mt-ascension-brewing-3/2028-03-23/
LOCATION:Mt. Ascension Brewing & Gastropub\, 317 Cruse Avenue\, Helena\, MT\, 59601\, United States
CATEGORIES:Social Gathering
END:VEVENT
BEGIN:VEVENT
DTSTART;TZID=America/Denver:20280406T180000
DTEND;TZID=America/Denver:20280406T200000
DTSTAMP:20260424T060730
CREATED:20260226T224206Z
LAST-MODIFIED:20260329T183007Z
UID:10001735-1838656800-1838664000@wakinggiant.org
SUMMARY:Waking Giant Social Gathering @ Mt. Ascension Brewing
DESCRIPTION:Join us for an informal gathering at Mt. Ascension Brewing & Gastropub. Get to know new friends\, or catch up with old comrades — we’d love to see you!
URL:https://wakinggiant.org/event/waking-giant-social-gathering-mt-ascension-brewing-3/2028-04-06/
LOCATION:Mt. Ascension Brewing & Gastropub\, 317 Cruse Avenue\, Helena\, MT\, 59601\, United States
CATEGORIES:Social Gathering
END:VEVENT
BEGIN:VEVENT
DTSTART;TZID=America/Denver:20280420T180000
DTEND;TZID=America/Denver:20280420T200000
DTSTAMP:20260424T060730
CREATED:20260226T224206Z
LAST-MODIFIED:20260329T183007Z
UID:10001736-1839866400-1839873600@wakinggiant.org
SUMMARY:Waking Giant Social Gathering @ Mt. Ascension Brewing
DESCRIPTION:Join us for an informal gathering at Mt. Ascension Brewing & Gastropub. Get to know new friends\, or catch up with old comrades — we’d love to see you!
URL:https://wakinggiant.org/event/waking-giant-social-gathering-mt-ascension-brewing-3/2028-04-20/
LOCATION:Mt. Ascension Brewing & Gastropub\, 317 Cruse Avenue\, Helena\, MT\, 59601\, United States
CATEGORIES:Social Gathering
END:VEVENT
BEGIN:VEVENT
DTSTART;TZID=America/Denver:20280504T180000
DTEND;TZID=America/Denver:20280504T200000
DTSTAMP:20260424T060731
CREATED:20260226T224206Z
LAST-MODIFIED:20260329T183007Z
UID:10001737-1841076000-1841083200@wakinggiant.org
SUMMARY:Waking Giant Social Gathering @ Mt. Ascension Brewing
DESCRIPTION:Join us for an informal gathering at Mt. Ascension Brewing & Gastropub. Get to know new friends\, or catch up with old comrades — we’d love to see you!
URL:https://wakinggiant.org/event/waking-giant-social-gathering-mt-ascension-brewing-3/2028-05-04/
LOCATION:Mt. Ascension Brewing & Gastropub\, 317 Cruse Avenue\, Helena\, MT\, 59601\, United States
CATEGORIES:Social Gathering
END:VEVENT
BEGIN:VEVENT
DTSTART;TZID=America/Denver:20280518T180000
DTEND;TZID=America/Denver:20280518T200000
DTSTAMP:20260424T060731
CREATED:20260226T224206Z
LAST-MODIFIED:20260329T183007Z
UID:10001738-1842285600-1842292800@wakinggiant.org
SUMMARY:Waking Giant Social Gathering @ Mt. Ascension Brewing
DESCRIPTION:Join us for an informal gathering at Mt. Ascension Brewing & Gastropub. Get to know new friends\, or catch up with old comrades — we’d love to see you!
URL:https://wakinggiant.org/event/waking-giant-social-gathering-mt-ascension-brewing-3/2028-05-18/
LOCATION:Mt. Ascension Brewing & Gastropub\, 317 Cruse Avenue\, Helena\, MT\, 59601\, United States
CATEGORIES:Social Gathering
END:VEVENT
BEGIN:VEVENT
DTSTART;TZID=America/Denver:20280601T180000
DTEND;TZID=America/Denver:20280601T200000
DTSTAMP:20260424T060731
CREATED:20260226T224206Z
LAST-MODIFIED:20260329T183007Z
UID:10001739-1843495200-1843502400@wakinggiant.org
SUMMARY:Waking Giant Social Gathering @ Mt. Ascension Brewing
DESCRIPTION:Join us for an informal gathering at Mt. Ascension Brewing & Gastropub. Get to know new friends\, or catch up with old comrades — we’d love to see you!
URL:https://wakinggiant.org/event/waking-giant-social-gathering-mt-ascension-brewing-3/2028-06-01/
LOCATION:Mt. Ascension Brewing & Gastropub\, 317 Cruse Avenue\, Helena\, MT\, 59601\, United States
CATEGORIES:Social Gathering
END:VEVENT
BEGIN:VEVENT
DTSTART;TZID=America/Denver:20280615T180000
DTEND;TZID=America/Denver:20280615T200000
DTSTAMP:20260424T060731
CREATED:20260226T224206Z
LAST-MODIFIED:20260329T183007Z
UID:10001740-1844704800-1844712000@wakinggiant.org
SUMMARY:Waking Giant Social Gathering @ Mt. Ascension Brewing
DESCRIPTION:Join us for an informal gathering at Mt. Ascension Brewing & Gastropub. Get to know new friends\, or catch up with old comrades — we’d love to see you!
URL:https://wakinggiant.org/event/waking-giant-social-gathering-mt-ascension-brewing-3/2028-06-15/
LOCATION:Mt. Ascension Brewing & Gastropub\, 317 Cruse Avenue\, Helena\, MT\, 59601\, United States
CATEGORIES:Social Gathering
END:VEVENT
BEGIN:VEVENT
DTSTART;TZID=America/Denver:20280629T180000
DTEND;TZID=America/Denver:20280629T200000
DTSTAMP:20260424T060731
CREATED:20260226T224206Z
LAST-MODIFIED:20260329T183007Z
UID:10001741-1845914400-1845921600@wakinggiant.org
SUMMARY:Waking Giant Social Gathering @ Mt. Ascension Brewing
DESCRIPTION:Join us for an informal gathering at Mt. Ascension Brewing & Gastropub. Get to know new friends\, or catch up with old comrades — we’d love to see you!
URL:https://wakinggiant.org/event/waking-giant-social-gathering-mt-ascension-brewing-3/2028-06-29/
LOCATION:Mt. Ascension Brewing & Gastropub\, 317 Cruse Avenue\, Helena\, MT\, 59601\, United States
CATEGORIES:Social Gathering
END:VEVENT
BEGIN:VEVENT
DTSTART;TZID=America/Denver:20280713T180000
DTEND;TZID=America/Denver:20280713T200000
DTSTAMP:20260424T060731
CREATED:20260226T224206Z
LAST-MODIFIED:20260329T183007Z
UID:10001543-1847124000-1847131200@wakinggiant.org
SUMMARY:Waking Giant Social Gathering @ Mt. Ascension Brewing
DESCRIPTION:Join us for an informal gathering at Mt. Ascension Brewing & Gastropub. Get to know new friends\, or catch up with old comrades — we’d love to see you!
URL:https://wakinggiant.org/event/waking-giant-social-gathering-mt-ascension-brewing-3/2028-07-13/
LOCATION:Mt. Ascension Brewing & Gastropub\, 317 Cruse Avenue\, Helena\, MT\, 59601\, United States
CATEGORIES:Social Gathering
END:VEVENT
BEGIN:VEVENT
DTSTART;TZID=America/Denver:20280727T180000
DTEND;TZID=America/Denver:20280727T200000
DTSTAMP:20260424T060731
CREATED:20260226T224206Z
LAST-MODIFIED:20260329T183007Z
UID:10001742-1848333600-1848340800@wakinggiant.org
SUMMARY:Waking Giant Social Gathering @ Mt. Ascension Brewing
DESCRIPTION:Join us for an informal gathering at Mt. Ascension Brewing & Gastropub. Get to know new friends\, or catch up with old comrades — we’d love to see you!
URL:https://wakinggiant.org/event/waking-giant-social-gathering-mt-ascension-brewing-3/2028-07-27/
LOCATION:Mt. Ascension Brewing & Gastropub\, 317 Cruse Avenue\, Helena\, MT\, 59601\, United States
CATEGORIES:Social Gathering
END:VEVENT
BEGIN:VEVENT
DTSTART;TZID=America/Denver:20280810T180000
DTEND;TZID=America/Denver:20280810T200000
DTSTAMP:20260424T060731
CREATED:20260226T224206Z
LAST-MODIFIED:20260329T183007Z
UID:10001544-1849543200-1849550400@wakinggiant.org
SUMMARY:Waking Giant Social Gathering @ Mt. Ascension Brewing
DESCRIPTION:Join us for an informal gathering at Mt. Ascension Brewing & Gastropub. Get to know new friends\, or catch up with old comrades — we’d love to see you!
URL:https://wakinggiant.org/event/waking-giant-social-gathering-mt-ascension-brewing-3/2028-08-10/
LOCATION:Mt. Ascension Brewing & Gastropub\, 317 Cruse Avenue\, Helena\, MT\, 59601\, United States
CATEGORIES:Social Gathering
END:VEVENT
BEGIN:VEVENT
DTSTART;TZID=America/Denver:20280824T180000
DTEND;TZID=America/Denver:20280824T200000
DTSTAMP:20260424T060731
CREATED:20260226T224206Z
LAST-MODIFIED:20260329T183007Z
UID:10001743-1850752800-1850760000@wakinggiant.org
SUMMARY:Waking Giant Social Gathering @ Mt. Ascension Brewing
DESCRIPTION:Join us for an informal gathering at Mt. Ascension Brewing & Gastropub. Get to know new friends\, or catch up with old comrades — we’d love to see you!
URL:https://wakinggiant.org/event/waking-giant-social-gathering-mt-ascension-brewing-3/2028-08-24/
LOCATION:Mt. Ascension Brewing & Gastropub\, 317 Cruse Avenue\, Helena\, MT\, 59601\, United States
CATEGORIES:Social Gathering
END:VEVENT
BEGIN:VEVENT
DTSTART;TZID=America/Denver:20280907T180000
DTEND;TZID=America/Denver:20280907T200000
DTSTAMP:20260424T060731
CREATED:20260226T224206Z
LAST-MODIFIED:20260329T183007Z
UID:10001744-1851962400-1851969600@wakinggiant.org
SUMMARY:Waking Giant Social Gathering @ Mt. Ascension Brewing
DESCRIPTION:Join us for an informal gathering at Mt. Ascension Brewing & Gastropub. Get to know new friends\, or catch up with old comrades — we’d love to see you!
URL:https://wakinggiant.org/event/waking-giant-social-gathering-mt-ascension-brewing-3/2028-09-07/
LOCATION:Mt. Ascension Brewing & Gastropub\, 317 Cruse Avenue\, Helena\, MT\, 59601\, United States
CATEGORIES:Social Gathering
END:VEVENT
BEGIN:VEVENT
DTSTART;TZID=America/Denver:20280921T180000
DTEND;TZID=America/Denver:20280921T200000
DTSTAMP:20260424T060731
CREATED:20260226T224206Z
LAST-MODIFIED:20260329T183007Z
UID:10001745-1853172000-1853179200@wakinggiant.org
SUMMARY:Waking Giant Social Gathering @ Mt. Ascension Brewing
DESCRIPTION:Join us for an informal gathering at Mt. Ascension Brewing & Gastropub. Get to know new friends\, or catch up with old comrades — we’d love to see you!
URL:https://wakinggiant.org/event/waking-giant-social-gathering-mt-ascension-brewing-3/2028-09-21/
LOCATION:Mt. Ascension Brewing & Gastropub\, 317 Cruse Avenue\, Helena\, MT\, 59601\, United States
CATEGORIES:Social Gathering
END:VEVENT
BEGIN:VEVENT
DTSTART;TZID=America/Denver:20281005T180000
DTEND;TZID=America/Denver:20281005T200000
DTSTAMP:20260424T060731
CREATED:20260226T224206Z
LAST-MODIFIED:20260329T183007Z
UID:10001746-1854381600-1854388800@wakinggiant.org
SUMMARY:Waking Giant Social Gathering @ Mt. Ascension Brewing
DESCRIPTION:Join us for an informal gathering at Mt. Ascension Brewing & Gastropub. Get to know new friends\, or catch up with old comrades — we’d love to see you!
URL:https://wakinggiant.org/event/waking-giant-social-gathering-mt-ascension-brewing-3/2028-10-05/
LOCATION:Mt. Ascension Brewing & Gastropub\, 317 Cruse Avenue\, Helena\, MT\, 59601\, United States
CATEGORIES:Social Gathering
END:VEVENT
BEGIN:VEVENT
DTSTART;TZID=America/Denver:20281019T180000
DTEND;TZID=America/Denver:20281019T200000
DTSTAMP:20260424T060731
CREATED:20260226T224206Z
LAST-MODIFIED:20260329T183007Z
UID:10001747-1855591200-1855598400@wakinggiant.org
SUMMARY:Waking Giant Social Gathering @ Mt. Ascension Brewing
DESCRIPTION:Join us for an informal gathering at Mt. Ascension Brewing & Gastropub. Get to know new friends\, or catch up with old comrades — we’d love to see you!
URL:https://wakinggiant.org/event/waking-giant-social-gathering-mt-ascension-brewing-3/2028-10-19/
LOCATION:Mt. Ascension Brewing & Gastropub\, 317 Cruse Avenue\, Helena\, MT\, 59601\, United States
CATEGORIES:Social Gathering
END:VEVENT
BEGIN:VEVENT
DTSTART;TZID=America/Denver:20281102T180000
DTEND;TZID=America/Denver:20281102T200000
DTSTAMP:20260424T060731
CREATED:20260226T224206Z
LAST-MODIFIED:20260329T183007Z
UID:10001748-1856800800-1856808000@wakinggiant.org
SUMMARY:Waking Giant Social Gathering @ Mt. Ascension Brewing
DESCRIPTION:Join us for an informal gathering at Mt. Ascension Brewing & Gastropub. Get to know new friends\, or catch up with old comrades — we’d love to see you!
URL:https://wakinggiant.org/event/waking-giant-social-gathering-mt-ascension-brewing-3/2028-11-02/
LOCATION:Mt. Ascension Brewing & Gastropub\, 317 Cruse Avenue\, Helena\, MT\, 59601\, United States
CATEGORIES:Social Gathering
END:VEVENT
BEGIN:VEVENT
DTSTART;TZID=America/Denver:20281116T180000
DTEND;TZID=America/Denver:20281116T200000
DTSTAMP:20260424T060731
CREATED:20260226T224206Z
LAST-MODIFIED:20260329T183007Z
UID:10001749-1858010400-1858017600@wakinggiant.org
SUMMARY:Waking Giant Social Gathering @ Mt. Ascension Brewing
DESCRIPTION:Join us for an informal gathering at Mt. Ascension Brewing & Gastropub. Get to know new friends\, or catch up with old comrades — we’d love to see you!
URL:https://wakinggiant.org/event/waking-giant-social-gathering-mt-ascension-brewing-3/2028-11-16/
LOCATION:Mt. Ascension Brewing & Gastropub\, 317 Cruse Avenue\, Helena\, MT\, 59601\, United States
CATEGORIES:Social Gathering
END:VEVENT
BEGIN:VEVENT
DTSTART;TZID=America/Denver:20281130T180000
DTEND;TZID=America/Denver:20281130T200000
DTSTAMP:20260424T060731
CREATED:20260226T224206Z
LAST-MODIFIED:20260329T183007Z
UID:10001750-1859220000-1859227200@wakinggiant.org
SUMMARY:Waking Giant Social Gathering @ Mt. Ascension Brewing
DESCRIPTION:Join us for an informal gathering at Mt. Ascension Brewing & Gastropub. Get to know new friends\, or catch up with old comrades — we’d love to see you!
URL:https://wakinggiant.org/event/waking-giant-social-gathering-mt-ascension-brewing-3/2028-11-30/
LOCATION:Mt. Ascension Brewing & Gastropub\, 317 Cruse Avenue\, Helena\, MT\, 59601\, United States
CATEGORIES:Social Gathering
END:VEVENT
END:VCALENDAR