BEGIN:VCALENDAR
VERSION:2.0
PRODID:-//WAKING GIANT - ECPv6.15.20//NONSGML v1.0//EN
CALSCALE:GREGORIAN
METHOD:PUBLISH
X-WR-CALNAME:WAKING GIANT
X-ORIGINAL-URL:https://wakinggiant.org
X-WR-CALDESC:Events for WAKING GIANT
REFRESH-INTERVAL;VALUE=DURATION:PT1H
X-Robots-Tag:noindex
X-PUBLISHED-TTL:PT1H
BEGIN:VTIMEZONE
TZID:America/Denver
BEGIN:DAYLIGHT
TZOFFSETFROM:-0700
TZOFFSETTO:-0600
TZNAME:MDT
DTSTART:20250309T090000
END:DAYLIGHT
BEGIN:STANDARD
TZOFFSETFROM:-0600
TZOFFSETTO:-0700
TZNAME:MST
DTSTART:20251102T080000
END:STANDARD
BEGIN:DAYLIGHT
TZOFFSETFROM:-0700
TZOFFSETTO:-0600
TZNAME:MDT
DTSTART:20260308T090000
END:DAYLIGHT
BEGIN:STANDARD
TZOFFSETFROM:-0600
TZOFFSETTO:-0700
TZNAME:MST
DTSTART:20261101T080000
END:STANDARD
BEGIN:DAYLIGHT
TZOFFSETFROM:-0700
TZOFFSETTO:-0600
TZNAME:MDT
DTSTART:20270314T090000
END:DAYLIGHT
BEGIN:STANDARD
TZOFFSETFROM:-0600
TZOFFSETTO:-0700
TZNAME:MST
DTSTART:20271107T080000
END:STANDARD
BEGIN:DAYLIGHT
TZOFFSETFROM:-0700
TZOFFSETTO:-0600
TZNAME:MDT
DTSTART:20280312T090000
END:DAYLIGHT
BEGIN:STANDARD
TZOFFSETFROM:-0600
TZOFFSETTO:-0700
TZNAME:MST
DTSTART:20281105T080000
END:STANDARD
END:VTIMEZONE
BEGIN:VEVENT
DTSTART;TZID=America/Denver:20260423T180000
DTEND;TZID=America/Denver:20260423T200000
DTSTAMP:20260423T124741
CREATED:20260226T224206Z
LAST-MODIFIED:20260329T183007Z
UID:10001696-1776967200-1776974400@wakinggiant.org
SUMMARY:Waking Giant Social Gathering @ Mt. Ascension Brewing
DESCRIPTION:Join us for an informal gathering at Mt. Ascension Brewing & Gastropub. Get to know new friends\, or catch up with old comrades — we’d love to see you!
URL:https://wakinggiant.org/event/waking-giant-social-gathering-mt-ascension-brewing-3/2026-04-23/
LOCATION:Mt. Ascension Brewing & Gastropub\, 317 Cruse Avenue\, Helena\, MT\, 59601\, United States
CATEGORIES:Social Gathering
END:VEVENT
BEGIN:VEVENT
DTSTART;TZID=America/Denver:20260507T180000
DTEND;TZID=America/Denver:20260507T200000
DTSTAMP:20260423T124741
CREATED:20260226T224206Z
LAST-MODIFIED:20260329T183007Z
UID:10001697-1778176800-1778184000@wakinggiant.org
SUMMARY:Waking Giant Social Gathering @ Mt. Ascension Brewing
DESCRIPTION:Join us for an informal gathering at Mt. Ascension Brewing & Gastropub. Get to know new friends\, or catch up with old comrades — we’d love to see you!
URL:https://wakinggiant.org/event/waking-giant-social-gathering-mt-ascension-brewing-3/2026-05-07/
LOCATION:Mt. Ascension Brewing & Gastropub\, 317 Cruse Avenue\, Helena\, MT\, 59601\, United States
CATEGORIES:Social Gathering
END:VEVENT
BEGIN:VEVENT
DTSTART;TZID=America/Denver:20260521T180000
DTEND;TZID=America/Denver:20260521T200000
DTSTAMP:20260423T124741
CREATED:20260226T224206Z
LAST-MODIFIED:20260329T183007Z
UID:10001698-1779386400-1779393600@wakinggiant.org
SUMMARY:Waking Giant Social Gathering @ Mt. Ascension Brewing
DESCRIPTION:Join us for an informal gathering at Mt. Ascension Brewing & Gastropub. Get to know new friends\, or catch up with old comrades — we’d love to see you!
URL:https://wakinggiant.org/event/waking-giant-social-gathering-mt-ascension-brewing-3/2026-05-21/
LOCATION:Mt. Ascension Brewing & Gastropub\, 317 Cruse Avenue\, Helena\, MT\, 59601\, United States
CATEGORIES:Social Gathering
END:VEVENT
BEGIN:VEVENT
DTSTART;TZID=America/Denver:20260604T180000
DTEND;TZID=America/Denver:20260604T200000
DTSTAMP:20260423T124741
CREATED:20260226T224206Z
LAST-MODIFIED:20260329T183007Z
UID:10001699-1780596000-1780603200@wakinggiant.org
SUMMARY:Waking Giant Social Gathering @ Mt. Ascension Brewing
DESCRIPTION:Join us for an informal gathering at Mt. Ascension Brewing & Gastropub. Get to know new friends\, or catch up with old comrades — we’d love to see you!
URL:https://wakinggiant.org/event/waking-giant-social-gathering-mt-ascension-brewing-3/2026-06-04/
LOCATION:Mt. Ascension Brewing & Gastropub\, 317 Cruse Avenue\, Helena\, MT\, 59601\, United States
CATEGORIES:Social Gathering
END:VEVENT
BEGIN:VEVENT
DTSTART;TZID=America/Denver:20260618T180000
DTEND;TZID=America/Denver:20260618T200000
DTSTAMP:20260423T124741
CREATED:20260226T224206Z
LAST-MODIFIED:20260329T183007Z
UID:10001700-1781805600-1781812800@wakinggiant.org
SUMMARY:Waking Giant Social Gathering @ Mt. Ascension Brewing
DESCRIPTION:Join us for an informal gathering at Mt. Ascension Brewing & Gastropub. Get to know new friends\, or catch up with old comrades — we’d love to see you!
URL:https://wakinggiant.org/event/waking-giant-social-gathering-mt-ascension-brewing-3/2026-06-18/
LOCATION:Mt. Ascension Brewing & Gastropub\, 317 Cruse Avenue\, Helena\, MT\, 59601\, United States
CATEGORIES:Social Gathering
END:VEVENT
BEGIN:VEVENT
DTSTART;TZID=America/Denver:20260702T180000
DTEND;TZID=America/Denver:20260702T200000
DTSTAMP:20260423T124741
CREATED:20260226T224206Z
LAST-MODIFIED:20260329T183007Z
UID:10001701-1783015200-1783022400@wakinggiant.org
SUMMARY:Waking Giant Social Gathering @ Mt. Ascension Brewing
DESCRIPTION:Join us for an informal gathering at Mt. Ascension Brewing & Gastropub. Get to know new friends\, or catch up with old comrades — we’d love to see you!
URL:https://wakinggiant.org/event/waking-giant-social-gathering-mt-ascension-brewing-3/2026-07-02/
LOCATION:Mt. Ascension Brewing & Gastropub\, 317 Cruse Avenue\, Helena\, MT\, 59601\, United States
CATEGORIES:Social Gathering
END:VEVENT
BEGIN:VEVENT
DTSTART;TZID=America/Denver:20260716T180000
DTEND;TZID=America/Denver:20260716T200000
DTSTAMP:20260423T124741
CREATED:20260226T224206Z
LAST-MODIFIED:20260329T183007Z
UID:10001702-1784224800-1784232000@wakinggiant.org
SUMMARY:Waking Giant Social Gathering @ Mt. Ascension Brewing
DESCRIPTION:Join us for an informal gathering at Mt. Ascension Brewing & Gastropub. Get to know new friends\, or catch up with old comrades — we’d love to see you!
URL:https://wakinggiant.org/event/waking-giant-social-gathering-mt-ascension-brewing-3/2026-07-16/
LOCATION:Mt. Ascension Brewing & Gastropub\, 317 Cruse Avenue\, Helena\, MT\, 59601\, United States
CATEGORIES:Social Gathering
END:VEVENT
BEGIN:VEVENT
DTSTART;TZID=America/Denver:20260730T180000
DTEND;TZID=America/Denver:20260730T200000
DTSTAMP:20260423T124741
CREATED:20260226T224206Z
LAST-MODIFIED:20260329T183007Z
UID:10001703-1785434400-1785441600@wakinggiant.org
SUMMARY:Waking Giant Social Gathering @ Mt. Ascension Brewing
DESCRIPTION:Join us for an informal gathering at Mt. Ascension Brewing & Gastropub. Get to know new friends\, or catch up with old comrades — we’d love to see you!
URL:https://wakinggiant.org/event/waking-giant-social-gathering-mt-ascension-brewing-3/2026-07-30/
LOCATION:Mt. Ascension Brewing & Gastropub\, 317 Cruse Avenue\, Helena\, MT\, 59601\, United States
CATEGORIES:Social Gathering
END:VEVENT
BEGIN:VEVENT
DTSTART;TZID=America/Denver:20260813T180000
DTEND;TZID=America/Denver:20260813T200000
DTSTAMP:20260423T124741
CREATED:20260226T224206Z
LAST-MODIFIED:20260329T183007Z
UID:10001520-1786644000-1786651200@wakinggiant.org
SUMMARY:Waking Giant Social Gathering @ Mt. Ascension Brewing
DESCRIPTION:Join us for an informal gathering at Mt. Ascension Brewing & Gastropub. Get to know new friends\, or catch up with old comrades — we’d love to see you!
URL:https://wakinggiant.org/event/waking-giant-social-gathering-mt-ascension-brewing-3/2026-08-13/
LOCATION:Mt. Ascension Brewing & Gastropub\, 317 Cruse Avenue\, Helena\, MT\, 59601\, United States
CATEGORIES:Social Gathering
END:VEVENT
BEGIN:VEVENT
DTSTART;TZID=America/Denver:20260827T180000
DTEND;TZID=America/Denver:20260827T200000
DTSTAMP:20260423T124741
CREATED:20260226T224206Z
LAST-MODIFIED:20260329T183007Z
UID:10001704-1787853600-1787860800@wakinggiant.org
SUMMARY:Waking Giant Social Gathering @ Mt. Ascension Brewing
DESCRIPTION:Join us for an informal gathering at Mt. Ascension Brewing & Gastropub. Get to know new friends\, or catch up with old comrades — we’d love to see you!
URL:https://wakinggiant.org/event/waking-giant-social-gathering-mt-ascension-brewing-3/2026-08-27/
LOCATION:Mt. Ascension Brewing & Gastropub\, 317 Cruse Avenue\, Helena\, MT\, 59601\, United States
CATEGORIES:Social Gathering
END:VEVENT
BEGIN:VEVENT
DTSTART;TZID=America/Denver:20260910T180000
DTEND;TZID=America/Denver:20260910T200000
DTSTAMP:20260423T124741
CREATED:20260226T224206Z
LAST-MODIFIED:20260329T183007Z
UID:10001521-1789063200-1789070400@wakinggiant.org
SUMMARY:Waking Giant Social Gathering @ Mt. Ascension Brewing
DESCRIPTION:Join us for an informal gathering at Mt. Ascension Brewing & Gastropub. Get to know new friends\, or catch up with old comrades — we’d love to see you!
URL:https://wakinggiant.org/event/waking-giant-social-gathering-mt-ascension-brewing-3/2026-09-10/
LOCATION:Mt. Ascension Brewing & Gastropub\, 317 Cruse Avenue\, Helena\, MT\, 59601\, United States
CATEGORIES:Social Gathering
END:VEVENT
BEGIN:VEVENT
DTSTART;TZID=America/Denver:20260924T180000
DTEND;TZID=America/Denver:20260924T200000
DTSTAMP:20260423T124741
CREATED:20260226T224206Z
LAST-MODIFIED:20260329T183007Z
UID:10001705-1790272800-1790280000@wakinggiant.org
SUMMARY:Waking Giant Social Gathering @ Mt. Ascension Brewing
DESCRIPTION:Join us for an informal gathering at Mt. Ascension Brewing & Gastropub. Get to know new friends\, or catch up with old comrades — we’d love to see you!
URL:https://wakinggiant.org/event/waking-giant-social-gathering-mt-ascension-brewing-3/2026-09-24/
LOCATION:Mt. Ascension Brewing & Gastropub\, 317 Cruse Avenue\, Helena\, MT\, 59601\, United States
CATEGORIES:Social Gathering
END:VEVENT
BEGIN:VEVENT
DTSTART;TZID=America/Denver:20261008T180000
DTEND;TZID=America/Denver:20261008T200000
DTSTAMP:20260423T124741
CREATED:20260226T224206Z
LAST-MODIFIED:20260329T183007Z
UID:10001522-1791482400-1791489600@wakinggiant.org
SUMMARY:Waking Giant Social Gathering @ Mt. Ascension Brewing
DESCRIPTION:Join us for an informal gathering at Mt. Ascension Brewing & Gastropub. Get to know new friends\, or catch up with old comrades — we’d love to see you!
URL:https://wakinggiant.org/event/waking-giant-social-gathering-mt-ascension-brewing-3/2026-10-08/
LOCATION:Mt. Ascension Brewing & Gastropub\, 317 Cruse Avenue\, Helena\, MT\, 59601\, United States
CATEGORIES:Social Gathering
END:VEVENT
BEGIN:VEVENT
DTSTART;TZID=America/Denver:20261022T180000
DTEND;TZID=America/Denver:20261022T200000
DTSTAMP:20260423T124741
CREATED:20260226T224206Z
LAST-MODIFIED:20260329T183007Z
UID:10001706-1792692000-1792699200@wakinggiant.org
SUMMARY:Waking Giant Social Gathering @ Mt. Ascension Brewing
DESCRIPTION:Join us for an informal gathering at Mt. Ascension Brewing & Gastropub. Get to know new friends\, or catch up with old comrades — we’d love to see you!
URL:https://wakinggiant.org/event/waking-giant-social-gathering-mt-ascension-brewing-3/2026-10-22/
LOCATION:Mt. Ascension Brewing & Gastropub\, 317 Cruse Avenue\, Helena\, MT\, 59601\, United States
CATEGORIES:Social Gathering
END:VEVENT
BEGIN:VEVENT
DTSTART;TZID=America/Denver:20261105T180000
DTEND;TZID=America/Denver:20261105T200000
DTSTAMP:20260423T124741
CREATED:20260226T224206Z
LAST-MODIFIED:20260329T183007Z
UID:10001707-1793901600-1793908800@wakinggiant.org
SUMMARY:Waking Giant Social Gathering @ Mt. Ascension Brewing
DESCRIPTION:Join us for an informal gathering at Mt. Ascension Brewing & Gastropub. Get to know new friends\, or catch up with old comrades — we’d love to see you!
URL:https://wakinggiant.org/event/waking-giant-social-gathering-mt-ascension-brewing-3/2026-11-05/
LOCATION:Mt. Ascension Brewing & Gastropub\, 317 Cruse Avenue\, Helena\, MT\, 59601\, United States
CATEGORIES:Social Gathering
END:VEVENT
BEGIN:VEVENT
DTSTART;TZID=America/Denver:20261119T180000
DTEND;TZID=America/Denver:20261119T200000
DTSTAMP:20260423T124741
CREATED:20260226T224206Z
LAST-MODIFIED:20260329T183007Z
UID:10001708-1795111200-1795118400@wakinggiant.org
SUMMARY:Waking Giant Social Gathering @ Mt. Ascension Brewing
DESCRIPTION:Join us for an informal gathering at Mt. Ascension Brewing & Gastropub. Get to know new friends\, or catch up with old comrades — we’d love to see you!
URL:https://wakinggiant.org/event/waking-giant-social-gathering-mt-ascension-brewing-3/2026-11-19/
LOCATION:Mt. Ascension Brewing & Gastropub\, 317 Cruse Avenue\, Helena\, MT\, 59601\, United States
CATEGORIES:Social Gathering
END:VEVENT
BEGIN:VEVENT
DTSTART;TZID=America/Denver:20261203T180000
DTEND;TZID=America/Denver:20261203T200000
DTSTAMP:20260423T124741
CREATED:20260226T224206Z
LAST-MODIFIED:20260329T183007Z
UID:10001709-1796320800-1796328000@wakinggiant.org
SUMMARY:Waking Giant Social Gathering @ Mt. Ascension Brewing
DESCRIPTION:Join us for an informal gathering at Mt. Ascension Brewing & Gastropub. Get to know new friends\, or catch up with old comrades — we’d love to see you!
URL:https://wakinggiant.org/event/waking-giant-social-gathering-mt-ascension-brewing-3/2026-12-03/
LOCATION:Mt. Ascension Brewing & Gastropub\, 317 Cruse Avenue\, Helena\, MT\, 59601\, United States
CATEGORIES:Social Gathering
END:VEVENT
BEGIN:VEVENT
DTSTART;TZID=America/Denver:20261217T180000
DTEND;TZID=America/Denver:20261217T200000
DTSTAMP:20260423T124741
CREATED:20260226T224206Z
LAST-MODIFIED:20260329T183007Z
UID:10001710-1797530400-1797537600@wakinggiant.org
SUMMARY:Waking Giant Social Gathering @ Mt. Ascension Brewing
DESCRIPTION:Join us for an informal gathering at Mt. Ascension Brewing & Gastropub. Get to know new friends\, or catch up with old comrades — we’d love to see you!
URL:https://wakinggiant.org/event/waking-giant-social-gathering-mt-ascension-brewing-3/2026-12-17/
LOCATION:Mt. Ascension Brewing & Gastropub\, 317 Cruse Avenue\, Helena\, MT\, 59601\, United States
CATEGORIES:Social Gathering
END:VEVENT
BEGIN:VEVENT
DTSTART;TZID=America/Denver:20261231T180000
DTEND;TZID=America/Denver:20261231T200000
DTSTAMP:20260423T124741
CREATED:20260226T224206Z
LAST-MODIFIED:20260329T183007Z
UID:10001711-1798740000-1798747200@wakinggiant.org
SUMMARY:Waking Giant Social Gathering @ Mt. Ascension Brewing
DESCRIPTION:Join us for an informal gathering at Mt. Ascension Brewing & Gastropub. Get to know new friends\, or catch up with old comrades — we’d love to see you!
URL:https://wakinggiant.org/event/waking-giant-social-gathering-mt-ascension-brewing-3/2026-12-31/
LOCATION:Mt. Ascension Brewing & Gastropub\, 317 Cruse Avenue\, Helena\, MT\, 59601\, United States
CATEGORIES:Social Gathering
END:VEVENT
BEGIN:VEVENT
DTSTART;TZID=America/Denver:20270114T180000
DTEND;TZID=America/Denver:20270114T200000
DTSTAMP:20260423T124741
CREATED:20260226T224206Z
LAST-MODIFIED:20260329T183007Z
UID:10001525-1799949600-1799956800@wakinggiant.org
SUMMARY:Waking Giant Social Gathering @ Mt. Ascension Brewing
DESCRIPTION:Join us for an informal gathering at Mt. Ascension Brewing & Gastropub. Get to know new friends\, or catch up with old comrades — we’d love to see you!
URL:https://wakinggiant.org/event/waking-giant-social-gathering-mt-ascension-brewing-3/2027-01-14/
LOCATION:Mt. Ascension Brewing & Gastropub\, 317 Cruse Avenue\, Helena\, MT\, 59601\, United States
CATEGORIES:Social Gathering
END:VEVENT
BEGIN:VEVENT
DTSTART;TZID=America/Denver:20270128T180000
DTEND;TZID=America/Denver:20270128T200000
DTSTAMP:20260423T124741
CREATED:20260226T224206Z
LAST-MODIFIED:20260329T183007Z
UID:10001712-1801159200-1801166400@wakinggiant.org
SUMMARY:Waking Giant Social Gathering @ Mt. Ascension Brewing
DESCRIPTION:Join us for an informal gathering at Mt. Ascension Brewing & Gastropub. Get to know new friends\, or catch up with old comrades — we’d love to see you!
URL:https://wakinggiant.org/event/waking-giant-social-gathering-mt-ascension-brewing-3/2027-01-28/
LOCATION:Mt. Ascension Brewing & Gastropub\, 317 Cruse Avenue\, Helena\, MT\, 59601\, United States
CATEGORIES:Social Gathering
END:VEVENT
BEGIN:VEVENT
DTSTART;TZID=America/Denver:20270211T180000
DTEND;TZID=America/Denver:20270211T200000
DTSTAMP:20260423T124741
CREATED:20260226T224206Z
LAST-MODIFIED:20260329T183007Z
UID:10001526-1802368800-1802376000@wakinggiant.org
SUMMARY:Waking Giant Social Gathering @ Mt. Ascension Brewing
DESCRIPTION:Join us for an informal gathering at Mt. Ascension Brewing & Gastropub. Get to know new friends\, or catch up with old comrades — we’d love to see you!
URL:https://wakinggiant.org/event/waking-giant-social-gathering-mt-ascension-brewing-3/2027-02-11/
LOCATION:Mt. Ascension Brewing & Gastropub\, 317 Cruse Avenue\, Helena\, MT\, 59601\, United States
CATEGORIES:Social Gathering
END:VEVENT
BEGIN:VEVENT
DTSTART;TZID=America/Denver:20270225T180000
DTEND;TZID=America/Denver:20270225T200000
DTSTAMP:20260423T124741
CREATED:20260226T224206Z
LAST-MODIFIED:20260329T183007Z
UID:10001713-1803578400-1803585600@wakinggiant.org
SUMMARY:Waking Giant Social Gathering @ Mt. Ascension Brewing
DESCRIPTION:Join us for an informal gathering at Mt. Ascension Brewing & Gastropub. Get to know new friends\, or catch up with old comrades — we’d love to see you!
URL:https://wakinggiant.org/event/waking-giant-social-gathering-mt-ascension-brewing-3/2027-02-25/
LOCATION:Mt. Ascension Brewing & Gastropub\, 317 Cruse Avenue\, Helena\, MT\, 59601\, United States
CATEGORIES:Social Gathering
END:VEVENT
BEGIN:VEVENT
DTSTART;TZID=America/Denver:20270311T180000
DTEND;TZID=America/Denver:20270311T200000
DTSTAMP:20260423T124741
CREATED:20260226T224206Z
LAST-MODIFIED:20260329T183007Z
UID:10001527-1804788000-1804795200@wakinggiant.org
SUMMARY:Waking Giant Social Gathering @ Mt. Ascension Brewing
DESCRIPTION:Join us for an informal gathering at Mt. Ascension Brewing & Gastropub. Get to know new friends\, or catch up with old comrades — we’d love to see you!
URL:https://wakinggiant.org/event/waking-giant-social-gathering-mt-ascension-brewing-3/2027-03-11/
LOCATION:Mt. Ascension Brewing & Gastropub\, 317 Cruse Avenue\, Helena\, MT\, 59601\, United States
CATEGORIES:Social Gathering
END:VEVENT
BEGIN:VEVENT
DTSTART;TZID=America/Denver:20270325T180000
DTEND;TZID=America/Denver:20270325T200000
DTSTAMP:20260423T124741
CREATED:20260226T224206Z
LAST-MODIFIED:20260329T183007Z
UID:10001714-1805997600-1806004800@wakinggiant.org
SUMMARY:Waking Giant Social Gathering @ Mt. Ascension Brewing
DESCRIPTION:Join us for an informal gathering at Mt. Ascension Brewing & Gastropub. Get to know new friends\, or catch up with old comrades — we’d love to see you!
URL:https://wakinggiant.org/event/waking-giant-social-gathering-mt-ascension-brewing-3/2027-03-25/
LOCATION:Mt. Ascension Brewing & Gastropub\, 317 Cruse Avenue\, Helena\, MT\, 59601\, United States
CATEGORIES:Social Gathering
END:VEVENT
BEGIN:VEVENT
DTSTART;TZID=America/Denver:20270408T180000
DTEND;TZID=America/Denver:20270408T200000
DTSTAMP:20260423T124741
CREATED:20260226T224206Z
LAST-MODIFIED:20260329T183007Z
UID:10001528-1807207200-1807214400@wakinggiant.org
SUMMARY:Waking Giant Social Gathering @ Mt. Ascension Brewing
DESCRIPTION:Join us for an informal gathering at Mt. Ascension Brewing & Gastropub. Get to know new friends\, or catch up with old comrades — we’d love to see you!
URL:https://wakinggiant.org/event/waking-giant-social-gathering-mt-ascension-brewing-3/2027-04-08/
LOCATION:Mt. Ascension Brewing & Gastropub\, 317 Cruse Avenue\, Helena\, MT\, 59601\, United States
CATEGORIES:Social Gathering
END:VEVENT
BEGIN:VEVENT
DTSTART;TZID=America/Denver:20270422T180000
DTEND;TZID=America/Denver:20270422T200000
DTSTAMP:20260423T124741
CREATED:20260226T224206Z
LAST-MODIFIED:20260329T183007Z
UID:10001715-1808416800-1808424000@wakinggiant.org
SUMMARY:Waking Giant Social Gathering @ Mt. Ascension Brewing
DESCRIPTION:Join us for an informal gathering at Mt. Ascension Brewing & Gastropub. Get to know new friends\, or catch up with old comrades — we’d love to see you!
URL:https://wakinggiant.org/event/waking-giant-social-gathering-mt-ascension-brewing-3/2027-04-22/
LOCATION:Mt. Ascension Brewing & Gastropub\, 317 Cruse Avenue\, Helena\, MT\, 59601\, United States
CATEGORIES:Social Gathering
END:VEVENT
BEGIN:VEVENT
DTSTART;TZID=America/Denver:20270506T180000
DTEND;TZID=America/Denver:20270506T200000
DTSTAMP:20260423T124741
CREATED:20260226T224206Z
LAST-MODIFIED:20260329T183007Z
UID:10001716-1809626400-1809633600@wakinggiant.org
SUMMARY:Waking Giant Social Gathering @ Mt. Ascension Brewing
DESCRIPTION:Join us for an informal gathering at Mt. Ascension Brewing & Gastropub. Get to know new friends\, or catch up with old comrades — we’d love to see you!
URL:https://wakinggiant.org/event/waking-giant-social-gathering-mt-ascension-brewing-3/2027-05-06/
LOCATION:Mt. Ascension Brewing & Gastropub\, 317 Cruse Avenue\, Helena\, MT\, 59601\, United States
CATEGORIES:Social Gathering
END:VEVENT
BEGIN:VEVENT
DTSTART;TZID=America/Denver:20270520T180000
DTEND;TZID=America/Denver:20270520T200000
DTSTAMP:20260423T124741
CREATED:20260226T224206Z
LAST-MODIFIED:20260329T183007Z
UID:10001717-1810836000-1810843200@wakinggiant.org
SUMMARY:Waking Giant Social Gathering @ Mt. Ascension Brewing
DESCRIPTION:Join us for an informal gathering at Mt. Ascension Brewing & Gastropub. Get to know new friends\, or catch up with old comrades — we’d love to see you!
URL:https://wakinggiant.org/event/waking-giant-social-gathering-mt-ascension-brewing-3/2027-05-20/
LOCATION:Mt. Ascension Brewing & Gastropub\, 317 Cruse Avenue\, Helena\, MT\, 59601\, United States
CATEGORIES:Social Gathering
END:VEVENT
BEGIN:VEVENT
DTSTART;TZID=America/Denver:20270603T180000
DTEND;TZID=America/Denver:20270603T200000
DTSTAMP:20260423T124741
CREATED:20260226T224206Z
LAST-MODIFIED:20260329T183007Z
UID:10001718-1812045600-1812052800@wakinggiant.org
SUMMARY:Waking Giant Social Gathering @ Mt. Ascension Brewing
DESCRIPTION:Join us for an informal gathering at Mt. Ascension Brewing & Gastropub. Get to know new friends\, or catch up with old comrades — we’d love to see you!
URL:https://wakinggiant.org/event/waking-giant-social-gathering-mt-ascension-brewing-3/2027-06-03/
LOCATION:Mt. Ascension Brewing & Gastropub\, 317 Cruse Avenue\, Helena\, MT\, 59601\, United States
CATEGORIES:Social Gathering
END:VEVENT
END:VCALENDAR