BEGIN:VCALENDAR
VERSION:2.0
PRODID:-//WAKING GIANT - ECPv6.15.20//NONSGML v1.0//EN
CALSCALE:GREGORIAN
METHOD:PUBLISH
X-ORIGINAL-URL:https://wakinggiant.org
X-WR-CALDESC:Events for WAKING GIANT
REFRESH-INTERVAL;VALUE=DURATION:PT1H
X-Robots-Tag:noindex
X-PUBLISHED-TTL:PT1H
BEGIN:VTIMEZONE
TZID:America/Denver
BEGIN:DAYLIGHT
TZOFFSETFROM:-0700
TZOFFSETTO:-0600
TZNAME:MDT
DTSTART:20240310T090000
END:DAYLIGHT
BEGIN:STANDARD
TZOFFSETFROM:-0600
TZOFFSETTO:-0700
TZNAME:MST
DTSTART:20241103T080000
END:STANDARD
BEGIN:DAYLIGHT
TZOFFSETFROM:-0700
TZOFFSETTO:-0600
TZNAME:MDT
DTSTART:20250309T090000
END:DAYLIGHT
BEGIN:STANDARD
TZOFFSETFROM:-0600
TZOFFSETTO:-0700
TZNAME:MST
DTSTART:20251102T080000
END:STANDARD
BEGIN:DAYLIGHT
TZOFFSETFROM:-0700
TZOFFSETTO:-0600
TZNAME:MDT
DTSTART:20260308T090000
END:DAYLIGHT
BEGIN:STANDARD
TZOFFSETFROM:-0600
TZOFFSETTO:-0700
TZNAME:MST
DTSTART:20261101T080000
END:STANDARD
BEGIN:DAYLIGHT
TZOFFSETFROM:-0700
TZOFFSETTO:-0600
TZNAME:MDT
DTSTART:20270314T090000
END:DAYLIGHT
BEGIN:STANDARD
TZOFFSETFROM:-0600
TZOFFSETTO:-0700
TZNAME:MST
DTSTART:20271107T080000
END:STANDARD
END:VTIMEZONE
BEGIN:VEVENT
DTSTART;TZID=America/Denver:20260417T080000
DTEND;TZID=America/Denver:20260417T170000
DTSTAMP:20260421T054028
CREATED:20260417T194955Z
LAST-MODIFIED:20260417T194955Z
UID:10002040-1776412800-1776445200@wakinggiant.org
SUMMARY:Prickly Pear Housing Alliance - Monthly Tenants Meeting
DESCRIPTION:Prickly Pear Housing Alliance is the city-wide tenants union for Helena\, MT. \nWe are fighting for safe and cost effective housing for all. \nTenant unions turns isolation into empowerment. It’s a space to get organized\, demand dignity\, and build a future where housing is a human right. \n  \nWe’re organizing tenants to address materials conditions in their homes or their buildings\, and working to create structural change\, we invite you join us in the growing national tenant movement! \n  \nSee ppha.house or contact pricklypearha@gmail.com for more information.
URL:https://wakinggiant.org/event/prickly-pear-housing-alliance-monthly-tenants-meeting-3-2/2026-04-17/
LOCATION:Lewis and Clark Library\, 120 S Last Chance Gulch St\, Helena\, MT\, 59601\, United States
CATEGORIES:Regular Meeting
END:VEVENT
BEGIN:VEVENT
DTSTART;TZID=America/Denver:20260414T180000
DTEND;TZID=America/Denver:20260414T190000
DTSTAMP:20260421T054028
CREATED:20260206T201727Z
LAST-MODIFIED:20260402T231959Z
UID:10001908-1776189600-1776193200@wakinggiant.org
SUMMARY:Prickly Pear Housing Alliance - Monthly Tenants Meeting [NOTE: NOW TUESDAYS]
DESCRIPTION:Prickly Pear Housing Alliance is the city-wide tenants union for Helena\, MT. \nWe are fighting for safe and cost effective housing for all. \nTenant unions turns isolation into empowerment. It’s a space to get organized\, demand dignity\, and build a future where housing is a human right. \n  \nWe’re organizing tenants to address materials conditions in their homes or their buildings\, and working to create structural change\, we invite you join us in the growing national tenant movement! \n  \nSee ppha.house or contact pricklypearha@gmail.com for more information.
URL:https://wakinggiant.org/event/prickly-pear-housing-alliance-monthly-tenants-meeting-2/2026-04-14/
LOCATION:Lewis and Clark Library\, 120 S Last Chance Gulch St\, Helena\, MT\, 59601\, United States
CATEGORIES:Regular Meeting
END:VEVENT
BEGIN:VEVENT
DTSTART;TZID=America/Denver:20260407T180000
DTEND;TZID=America/Denver:20260407T190000
DTSTAMP:20260421T054028
CREATED:20260403T001542Z
LAST-MODIFIED:20260403T001543Z
UID:10001968-1775584800-1775588400@wakinggiant.org
SUMMARY:Prickly Pear Housing Alliance - Monthly Tenants Meeting
DESCRIPTION:Prickly Pear Housing Alliance is the city-wide tenants union for Helena\, MT. \nWe are fighting for safe and cost effective housing for all. \nTenant unions turns isolation into empowerment. It’s a space to get organized\, demand dignity\, and build a future where housing is a human right. \n  \nWe’re organizing tenants to address materials conditions in their homes or their buildings\, and working to create structural change\, we invite you join us in the growing national tenant movement! \n  \nSee ppha.house or contact pricklypearha@gmail.com for more information.
URL:https://wakinggiant.org/event/prickly-pear-housing-alliance-monthly-tenants-meeting-3/
LOCATION:Lewis and Clark Library\, 120 S Last Chance Gulch St\, Helena\, MT\, 59601\, United States
CATEGORIES:Regular Meeting
END:VEVENT
BEGIN:VEVENT
DTSTART;TZID=America/Denver:20260406T120000
DTEND;TZID=America/Denver:20260406T130000
DTSTAMP:20260421T054028
CREATED:20260403T222803Z
LAST-MODIFIED:20260403T222803Z
UID:10002036-1775476800-1775480400@wakinggiant.org
SUMMARY:Helena Housing Crisis Action Network Meeting - April 2026
DESCRIPTION:Coalition of organizations and churches working toward housing justice in Helena.
URL:https://wakinggiant.org/event/helena-housing-crisis-action-network-meeting-april-2026/
LOCATION:Plymouth Congregational Church\, 400 South Oakes Street\, Helena\, MT\, 59601\, United States
CATEGORIES:Regular Meeting
END:VEVENT
BEGIN:VEVENT
DTSTART;TZID=America/Denver:20260310T180000
DTEND;TZID=America/Denver:20260310T190000
DTSTAMP:20260421T054028
CREATED:20260206T201727Z
LAST-MODIFIED:20260402T231959Z
UID:10000443-1773165600-1773169200@wakinggiant.org
SUMMARY:Prickly Pear Housing Alliance - Monthly Tenants Meeting [NOTE: NOW TUESDAYS]
DESCRIPTION:Prickly Pear Housing Alliance is the city-wide tenants union for Helena\, MT. \nWe are fighting for safe and cost effective housing for all. \nTenant unions turns isolation into empowerment. It’s a space to get organized\, demand dignity\, and build a future where housing is a human right. \n  \nWe’re organizing tenants to address materials conditions in their homes or their buildings\, and working to create structural change\, we invite you join us in the growing national tenant movement! \n  \nSee ppha.house or contact pricklypearha@gmail.com for more information.
URL:https://wakinggiant.org/event/prickly-pear-housing-alliance-monthly-tenants-meeting-2/2026-03-10/
LOCATION:Lewis and Clark Library\, 120 S Last Chance Gulch St\, Helena\, MT\, 59601\, United States
CATEGORIES:Regular Meeting
END:VEVENT
BEGIN:VEVENT
DTSTART;TZID=America/Denver:20260202T180000
DTEND;TZID=America/Denver:20260202T190000
DTSTAMP:20260421T054028
CREATED:20251106T205227Z
LAST-MODIFIED:20251106T205227Z
UID:10000442-1770055200-1770058800@wakinggiant.org
SUMMARY:Prickly Pear Housing Alliance - Monthly Tenants Meeting
DESCRIPTION:
URL:https://wakinggiant.org/event/prickly-pear-housing-alliance-monthly-tenants-meeting/2026-02-02/
LOCATION:Lewis and Clark Library\, 120 S Last Chance Gulch St\, Helena\, MT\, 59601\, United States
CATEGORIES:Regular Meeting
END:VEVENT
BEGIN:VEVENT
DTSTART;TZID=America/Denver:20260115T180000
DTEND;TZID=America/Denver:20260115T200000
DTSTAMP:20260421T054028
CREATED:20251217T231619Z
LAST-MODIFIED:20260121T225600Z
UID:10000912-1768500000-1768507200@wakinggiant.org
SUMMARY:Waking Giant General Meeting
DESCRIPTION:This is our regular bi-monthly business meeting. We ask interested new folk to connect with an existing member before showing up. \nIf you are new\, we’d love to meet you. Use the Contact Us form on this website or send us an email at info@wakinggiant.org and tell us about yourself. \n6:00-6:30: Social time \n6:30-8:00: Meeting
URL:https://wakinggiant.org/event/general-meeting-3/2026-01-15/
LOCATION:MT
CATEGORIES:Regular Meeting
END:VEVENT
BEGIN:VEVENT
DTSTART;TZID=America/Denver:20260105T180000
DTEND;TZID=America/Denver:20260105T190000
DTSTAMP:20260421T054028
CREATED:20251106T205227Z
LAST-MODIFIED:20251106T205227Z
UID:10000441-1767636000-1767639600@wakinggiant.org
SUMMARY:Prickly Pear Housing Alliance - Monthly Tenants Meeting
DESCRIPTION:
URL:https://wakinggiant.org/event/prickly-pear-housing-alliance-monthly-tenants-meeting/2026-01-05/
LOCATION:Lewis and Clark Library\, 120 S Last Chance Gulch St\, Helena\, MT\, 59601\, United States
CATEGORIES:Regular Meeting
END:VEVENT
BEGIN:VEVENT
DTSTART;TZID=America/Denver:20260101T180000
DTEND;TZID=America/Denver:20260101T200000
DTSTAMP:20260421T054028
CREATED:20251217T231619Z
LAST-MODIFIED:20260121T225600Z
UID:10000911-1767290400-1767297600@wakinggiant.org
SUMMARY:Waking Giant General Meeting
DESCRIPTION:This is our regular bi-monthly business meeting. We ask interested new folk to connect with an existing member before showing up. \nIf you are new\, we’d love to meet you. Use the Contact Us form on this website or send us an email at info@wakinggiant.org and tell us about yourself. \n6:00-6:30: Social time \n6:30-8:00: Meeting
URL:https://wakinggiant.org/event/general-meeting-3/2026-01-01/
LOCATION:MT
CATEGORIES:Regular Meeting
END:VEVENT
BEGIN:VEVENT
DTSTART;TZID=America/Denver:20251218T180000
DTEND;TZID=America/Denver:20251218T200000
DTSTAMP:20260421T054028
CREATED:20251217T231619Z
LAST-MODIFIED:20260121T225600Z
UID:10000910-1766080800-1766088000@wakinggiant.org
SUMMARY:Waking Giant General Meeting
DESCRIPTION:This is our regular bi-monthly business meeting. We ask interested new folk to connect with an existing member before showing up. \nIf you are new\, we’d love to meet you. Use the Contact Us form on this website or send us an email at info@wakinggiant.org and tell us about yourself. \n6:00-6:30: Social time \n6:30-8:00: Meeting
URL:https://wakinggiant.org/event/general-meeting-3/2025-12-18/
LOCATION:MT
CATEGORIES:Regular Meeting
END:VEVENT
BEGIN:VEVENT
DTSTART;TZID=America/Denver:20251204T183000
DTEND;TZID=America/Denver:20251204T200000
DTSTAMP:20260421T054028
CREATED:20251106T204308Z
LAST-MODIFIED:20251106T204433Z
UID:10000294-1764873000-1764878400@wakinggiant.org
SUMMARY:Waking Giant General Meeting
DESCRIPTION:**Sharing the IBEW this night with Union members\, if they are using the upstairs then we will use the downstairs. \nThis is our regular bi-monthly business meeting. We ask interested new folk to connect with an existing member before showing up. \nIf you are new\, we’d love to meet you.  Use the Contact Us form on this website or send us an email at info@wakinggiant.org and tell us about yourself.
URL:https://wakinggiant.org/event/general-meeting-2/
LOCATION:Union Hall (IBEW)\, 110 N Warren St\, Helena\, MT\, 59601\, United States
CATEGORIES:Regular Meeting
END:VEVENT
BEGIN:VEVENT
DTSTART;TZID=America/Denver:20251201T180000
DTEND;TZID=America/Denver:20251201T190000
DTSTAMP:20260421T054028
CREATED:20251106T205227Z
LAST-MODIFIED:20251106T205227Z
UID:10000440-1764612000-1764615600@wakinggiant.org
SUMMARY:Prickly Pear Housing Alliance - Monthly Tenants Meeting
DESCRIPTION:
URL:https://wakinggiant.org/event/prickly-pear-housing-alliance-monthly-tenants-meeting/2025-12-01/
LOCATION:Lewis and Clark Library\, 120 S Last Chance Gulch St\, Helena\, MT\, 59601\, United States
CATEGORIES:Regular Meeting
END:VEVENT
BEGIN:VEVENT
DTSTART;TZID=America/Denver:20251120T183000
DTEND;TZID=America/Denver:20251120T200000
DTSTAMP:20260421T054028
CREATED:20251001T013134Z
LAST-MODIFIED:20251017T162550Z
UID:10000293-1763663400-1763668800@wakinggiant.org
SUMMARY:Waking Giant General Meeting
DESCRIPTION:This is our regular bi-monthly business meeting. We ask interested new folk to connect with an existing member before showing up. \nIf you are new\, we’d love to meet you.  Use the Contact Us form on this website or send us an email at info@wakinggiant.org and tell us about yourself.
URL:https://wakinggiant.org/event/general-meeting/2025-11-20/
LOCATION:Union Hall (IBEW)\, 110 N Warren St\, Helena\, MT\, 59601\, United States
CATEGORIES:Regular Meeting
END:VEVENT
BEGIN:VEVENT
DTSTART;TZID=America/Denver:20251106T183000
DTEND;TZID=America/Denver:20251106T200000
DTSTAMP:20260421T054028
CREATED:20251001T013134Z
LAST-MODIFIED:20251017T162550Z
UID:10000292-1762453800-1762459200@wakinggiant.org
SUMMARY:Waking Giant General Meeting
DESCRIPTION:This is our regular bi-monthly business meeting. We ask interested new folk to connect with an existing member before showing up. \nIf you are new\, we’d love to meet you.  Use the Contact Us form on this website or send us an email at info@wakinggiant.org and tell us about yourself.
URL:https://wakinggiant.org/event/general-meeting/2025-11-06/
LOCATION:Union Hall (IBEW)\, 110 N Warren St\, Helena\, MT\, 59601\, United States
CATEGORIES:Regular Meeting
END:VEVENT
BEGIN:VEVENT
DTSTART;TZID=America/Denver:20251103T183000
DTEND;TZID=America/Denver:20251103T200000
DTSTAMP:20260421T054028
CREATED:20251028T182017Z
LAST-MODIFIED:20251028T182017Z
UID:10000305-1762194600-1762200000@wakinggiant.org
SUMMARY:Prickly Pear Housing Alliance
DESCRIPTION:Join us for the November monthly meeting of the Prickly Pear Housing Alliance\, Helena’s tenants’ union. \nWhere: Lewis & Clark County Library\, Large Reading Room \nWhen: Monday\, November 3\, 6:30-8pm \n  \nMore about the Prickly Pear Housing Alliance: \nWho: Renters\, Homeowners\, Unhoused\, not landlords or property managers.\nWhat: A tenants union is a way to build collective power to protect those who are vulnerable to losing their living space.\nWhy: Emancipate tenants from the exploitation of commodified housing. \nSpread the word\n \nQuestions? Contact ppha@ppha.house.
URL:https://wakinggiant.org/event/prickly-pear-housing-alliance-2/
LOCATION:Lewis and Clark Library\, 120 S Last Chance Gulch St\, Helena\, MT\, 59601\, United States
CATEGORIES:Regular Meeting
END:VEVENT
BEGIN:VEVENT
DTSTART;TZID=America/Denver:20251023T183000
DTEND;TZID=America/Denver:20251023T200000
DTSTAMP:20260421T054028
CREATED:20251001T013134Z
LAST-MODIFIED:20251017T162550Z
UID:10000290-1761244200-1761249600@wakinggiant.org
SUMMARY:Waking Giant General Meeting
DESCRIPTION:This is our regular bi-monthly business meeting. We ask interested new folk to connect with an existing member before showing up. \nIf you are new\, we’d love to meet you.  Use the Contact Us form on this website or send us an email at info@wakinggiant.org and tell us about yourself.
URL:https://wakinggiant.org/event/general-meeting/2025-10-23/
LOCATION:Union Hall (IBEW)\, 110 N Warren St\, Helena\, MT\, 59601\, United States
CATEGORIES:Regular Meeting
END:VEVENT
BEGIN:VEVENT
DTSTART;TZID=America/Denver:20250925T180000
DTEND;TZID=America/Denver:20250925T200000
DTSTAMP:20260421T054028
CREATED:20250905T203600Z
LAST-MODIFIED:20250905T203600Z
UID:10000017-1758823200-1758830400@wakinggiant.org
SUMMARY:Waking Giant GM
DESCRIPTION:This is our recurring meeting. To get an invite\, get in touch with one of our members.
URL:https://wakinggiant.org/event/waking-giant-gm-2/
LOCATION:MT
CATEGORIES:Regular Meeting
END:VEVENT
BEGIN:VEVENT
DTSTART;TZID=America/Denver:20250911T180000
DTEND;TZID=America/Denver:20250911T200000
DTSTAMP:20260421T054028
CREATED:20250905T021031Z
LAST-MODIFIED:20250905T022508Z
UID:10000008-1757613600-1757620800@wakinggiant.org
SUMMARY:Waking Giant GM
DESCRIPTION:This is our recurring meeting. To get an invite\, get in touch with one of our members.
URL:https://wakinggiant.org/event/waking-giant-gm/
LOCATION:MT
CATEGORIES:Regular Meeting
END:VEVENT
END:VCALENDAR