BEGIN:VCALENDAR
VERSION:2.0
PRODID:-//WAKING GIANT - ECPv6.15.20//NONSGML v1.0//EN
CALSCALE:GREGORIAN
METHOD:PUBLISH
X-ORIGINAL-URL:https://wakinggiant.org
X-WR-CALDESC:Events for WAKING GIANT
REFRESH-INTERVAL;VALUE=DURATION:PT1H
X-Robots-Tag:noindex
X-PUBLISHED-TTL:PT1H
BEGIN:VTIMEZONE
TZID:America/Denver
BEGIN:DAYLIGHT
TZOFFSETFROM:-0700
TZOFFSETTO:-0600
TZNAME:MDT
DTSTART:20250309T090000
END:DAYLIGHT
BEGIN:STANDARD
TZOFFSETFROM:-0600
TZOFFSETTO:-0700
TZNAME:MST
DTSTART:20251102T080000
END:STANDARD
BEGIN:DAYLIGHT
TZOFFSETFROM:-0700
TZOFFSETTO:-0600
TZNAME:MDT
DTSTART:20260308T090000
END:DAYLIGHT
BEGIN:STANDARD
TZOFFSETFROM:-0600
TZOFFSETTO:-0700
TZNAME:MST
DTSTART:20261101T080000
END:STANDARD
BEGIN:DAYLIGHT
TZOFFSETFROM:-0700
TZOFFSETTO:-0600
TZNAME:MDT
DTSTART:20270314T090000
END:DAYLIGHT
BEGIN:STANDARD
TZOFFSETFROM:-0600
TZOFFSETTO:-0700
TZNAME:MST
DTSTART:20271107T080000
END:STANDARD
END:VTIMEZONE
BEGIN:VEVENT
DTSTART;TZID=America/Denver:20260310T174500
DTEND;TZID=America/Denver:20260310T190000
DTSTAMP:20260421T072743
CREATED:20260303T221636Z
LAST-MODIFIED:20260303T221636Z
UID:10001508-1773164700-1773169200@wakinggiant.org
SUMMARY:Constitutional Rights & Liberties: How to Use Them\, and How to Keep Them (by MT 4 Palestine and ACLU MT)
DESCRIPTION:In March at How the Helena?!: come hear about our constitutional rights and what can be done to protect them! Julia Cotter and Ashley Fischer (MT 4 Palestine) will discuss their successful campaign to pass the Helena ICE resolution\, lessons learned and tips for future local campaigns and what’s next. Molly Danahy (Upper 7 Law) will discuss leveraging right to know in getting information from local government and other constitutional rights. Moderated by Cari Kimball (ACLU)\, who will also discuss right to record\, First Amendment issues\, and other hot topics at the ACLU. Questions and dialogue welcome and appreciated!
URL:https://wakinggiant.org/event/constitutional-rights-liberties-how-to-use-them-and-how-to-keep-them-by-mt-4-palestine-and-aclu-mt/
LOCATION:Ten Mile Creek Brewery\, 48 N Last Chance Gulch\, Helena\, MT\, 59601
CATEGORIES:Information Sharing,Panel Discussion
END:VEVENT
END:VCALENDAR