BEGIN:VCALENDAR
VERSION:2.0
PRODID:-//WAKING GIANT - ECPv6.15.20//NONSGML v1.0//EN
CALSCALE:GREGORIAN
METHOD:PUBLISH
X-ORIGINAL-URL:https://wakinggiant.org
X-WR-CALDESC:Events for WAKING GIANT
REFRESH-INTERVAL;VALUE=DURATION:PT1H
X-Robots-Tag:noindex
X-PUBLISHED-TTL:PT1H
BEGIN:VTIMEZONE
TZID:America/Denver
BEGIN:DAYLIGHT
TZOFFSETFROM:-0700
TZOFFSETTO:-0600
TZNAME:MDT
DTSTART:20250309T090000
END:DAYLIGHT
BEGIN:STANDARD
TZOFFSETFROM:-0600
TZOFFSETTO:-0700
TZNAME:MST
DTSTART:20251102T080000
END:STANDARD
BEGIN:DAYLIGHT
TZOFFSETFROM:-0700
TZOFFSETTO:-0600
TZNAME:MDT
DTSTART:20260308T090000
END:DAYLIGHT
BEGIN:STANDARD
TZOFFSETFROM:-0600
TZOFFSETTO:-0700
TZNAME:MST
DTSTART:20261101T080000
END:STANDARD
BEGIN:DAYLIGHT
TZOFFSETFROM:-0700
TZOFFSETTO:-0600
TZNAME:MDT
DTSTART:20270314T090000
END:DAYLIGHT
BEGIN:STANDARD
TZOFFSETFROM:-0600
TZOFFSETTO:-0700
TZNAME:MST
DTSTART:20271107T080000
END:STANDARD
END:VTIMEZONE
BEGIN:VEVENT
DTSTART;TZID=America/Denver:20260505T180000
DTEND;TZID=America/Denver:20260505T200000
DTSTAMP:20260423T124736
CREATED:20260404T022831Z
LAST-MODIFIED:20260404T022832Z
UID:10000776-1778004000-1778011200@wakinggiant.org
SUMMARY:Piroshkis for Palestine
DESCRIPTION:Join Montana 4 Palestine as we show solidarity\, help support Palestinians in need\, and learn something new. Every first Tuesday of the month from 6-8pm at Dear Potato! \nApril 7th: Elia Sleiman (comedy) \nMay 7th: The Battle of Algiers
URL:https://wakinggiant.org/event/piroshkis-for-palestine-2-2-2/2026-05-05/
LOCATION:Dear Potato Bakery\, 105 E 6th Ave\, Helena\, MT\, 59601\, United States
CATEGORIES:Fundraiser
END:VEVENT
END:VCALENDAR