BEGIN:VCALENDAR
VERSION:2.0
PRODID:-//WAKING GIANT - ECPv6.15.20//NONSGML v1.0//EN
CALSCALE:GREGORIAN
METHOD:PUBLISH
X-WR-CALNAME:WAKING GIANT
X-ORIGINAL-URL:https://wakinggiant.org
X-WR-CALDESC:Events for WAKING GIANT
REFRESH-INTERVAL;VALUE=DURATION:PT1H
X-Robots-Tag:noindex
X-PUBLISHED-TTL:PT1H
BEGIN:VTIMEZONE
TZID:America/Denver
BEGIN:DAYLIGHT
TZOFFSETFROM:-0700
TZOFFSETTO:-0600
TZNAME:MDT
DTSTART:20270314T090000
END:DAYLIGHT
BEGIN:STANDARD
TZOFFSETFROM:-0600
TZOFFSETTO:-0700
TZNAME:MST
DTSTART:20271107T080000
END:STANDARD
BEGIN:DAYLIGHT
TZOFFSETFROM:-0700
TZOFFSETTO:-0600
TZNAME:MDT
DTSTART:20280312T090000
END:DAYLIGHT
BEGIN:STANDARD
TZOFFSETFROM:-0600
TZOFFSETTO:-0700
TZNAME:MST
DTSTART:20281105T080000
END:STANDARD
BEGIN:DAYLIGHT
TZOFFSETFROM:-0700
TZOFFSETTO:-0600
TZNAME:MDT
DTSTART:20290311T090000
END:DAYLIGHT
BEGIN:STANDARD
TZOFFSETFROM:-0600
TZOFFSETTO:-0700
TZNAME:MST
DTSTART:20291104T080000
END:STANDARD
BEGIN:DAYLIGHT
TZOFFSETFROM:-0700
TZOFFSETTO:-0600
TZNAME:MDT
DTSTART:20300310T090000
END:DAYLIGHT
BEGIN:STANDARD
TZOFFSETFROM:-0600
TZOFFSETTO:-0700
TZNAME:MST
DTSTART:20301103T080000
END:STANDARD
END:VTIMEZONE
BEGIN:VEVENT
DTSTART;TZID=America/Denver:20280306T180000
DTEND;TZID=America/Denver:20280306T200000
DTSTAMP:20260423T052703
CREATED:20260113T024116Z
LAST-MODIFIED:20260403T215359Z
UID:10000833-1835978400-1835985600@wakinggiant.org
SUMMARY:Helena City Commission Meeting (Regular Meeting)
DESCRIPTION:See Helena City Commission webpage for schedules and agendas: https://www.helenamt.gov/Government/City-Commission
URL:https://wakinggiant.org/event/helena-city-commission-meetings-2-2/2028-03-06/
LOCATION:City County Building\, Room 330\, 316 N Park Ave\, Helena\, MT\, 59623\, United States
CATEGORIES:City or County Meeting
END:VEVENT
BEGIN:VEVENT
DTSTART;TZID=America/Denver:20280320T180000
DTEND;TZID=America/Denver:20280320T200000
DTSTAMP:20260423T052703
CREATED:20260113T024116Z
LAST-MODIFIED:20260403T215359Z
UID:10000834-1837188000-1837195200@wakinggiant.org
SUMMARY:Helena City Commission Meeting (Regular Meeting)
DESCRIPTION:See Helena City Commission webpage for schedules and agendas: https://www.helenamt.gov/Government/City-Commission
URL:https://wakinggiant.org/event/helena-city-commission-meetings-2-2/2028-03-20/
LOCATION:City County Building\, Room 330\, 316 N Park Ave\, Helena\, MT\, 59623\, United States
CATEGORIES:City or County Meeting
END:VEVENT
BEGIN:VEVENT
DTSTART;TZID=America/Denver:20280403T180000
DTEND;TZID=America/Denver:20280403T200000
DTSTAMP:20260423T052703
CREATED:20260113T024116Z
LAST-MODIFIED:20260403T215359Z
UID:10000835-1838397600-1838404800@wakinggiant.org
SUMMARY:Helena City Commission Meeting (Regular Meeting)
DESCRIPTION:See Helena City Commission webpage for schedules and agendas: https://www.helenamt.gov/Government/City-Commission
URL:https://wakinggiant.org/event/helena-city-commission-meetings-2-2/2028-04-03/
LOCATION:City County Building\, Room 330\, 316 N Park Ave\, Helena\, MT\, 59623\, United States
CATEGORIES:City or County Meeting
END:VEVENT
BEGIN:VEVENT
DTSTART;TZID=America/Denver:20280417T180000
DTEND;TZID=America/Denver:20280417T200000
DTSTAMP:20260423T052703
CREATED:20260113T024116Z
LAST-MODIFIED:20260403T215359Z
UID:10000836-1839607200-1839614400@wakinggiant.org
SUMMARY:Helena City Commission Meeting (Regular Meeting)
DESCRIPTION:See Helena City Commission webpage for schedules and agendas: https://www.helenamt.gov/Government/City-Commission
URL:https://wakinggiant.org/event/helena-city-commission-meetings-2-2/2028-04-17/
LOCATION:City County Building\, Room 330\, 316 N Park Ave\, Helena\, MT\, 59623\, United States
CATEGORIES:City or County Meeting
END:VEVENT
BEGIN:VEVENT
DTSTART;TZID=America/Denver:20280501T180000
DTEND;TZID=America/Denver:20280501T200000
DTSTAMP:20260423T052703
CREATED:20260113T024116Z
LAST-MODIFIED:20260403T215359Z
UID:10000837-1840816800-1840824000@wakinggiant.org
SUMMARY:Helena City Commission Meeting (Regular Meeting)
DESCRIPTION:See Helena City Commission webpage for schedules and agendas: https://www.helenamt.gov/Government/City-Commission
URL:https://wakinggiant.org/event/helena-city-commission-meetings-2-2/2028-05-01/
LOCATION:City County Building\, Room 330\, 316 N Park Ave\, Helena\, MT\, 59623\, United States
CATEGORIES:City or County Meeting
END:VEVENT
BEGIN:VEVENT
DTSTART;TZID=America/Denver:20280515T180000
DTEND;TZID=America/Denver:20280515T200000
DTSTAMP:20260423T052703
CREATED:20260113T024116Z
LAST-MODIFIED:20260403T215359Z
UID:10000838-1842026400-1842033600@wakinggiant.org
SUMMARY:Helena City Commission Meeting (Regular Meeting)
DESCRIPTION:See Helena City Commission webpage for schedules and agendas: https://www.helenamt.gov/Government/City-Commission
URL:https://wakinggiant.org/event/helena-city-commission-meetings-2-2/2028-05-15/
LOCATION:City County Building\, Room 330\, 316 N Park Ave\, Helena\, MT\, 59623\, United States
CATEGORIES:City or County Meeting
END:VEVENT
BEGIN:VEVENT
DTSTART;TZID=America/Denver:20280529T180000
DTEND;TZID=America/Denver:20280529T200000
DTSTAMP:20260423T052703
CREATED:20260113T024116Z
LAST-MODIFIED:20260403T215359Z
UID:10000839-1843236000-1843243200@wakinggiant.org
SUMMARY:Helena City Commission Meeting (Regular Meeting)
DESCRIPTION:See Helena City Commission webpage for schedules and agendas: https://www.helenamt.gov/Government/City-Commission
URL:https://wakinggiant.org/event/helena-city-commission-meetings-2-2/2028-05-29/
LOCATION:City County Building\, Room 330\, 316 N Park Ave\, Helena\, MT\, 59623\, United States
CATEGORIES:City or County Meeting
END:VEVENT
BEGIN:VEVENT
DTSTART;TZID=America/Denver:20280612T180000
DTEND;TZID=America/Denver:20280612T200000
DTSTAMP:20260423T052703
CREATED:20260113T024116Z
LAST-MODIFIED:20260403T215359Z
UID:10000840-1844445600-1844452800@wakinggiant.org
SUMMARY:Helena City Commission Meeting (Regular Meeting)
DESCRIPTION:See Helena City Commission webpage for schedules and agendas: https://www.helenamt.gov/Government/City-Commission
URL:https://wakinggiant.org/event/helena-city-commission-meetings-2-2/2028-06-12/
LOCATION:City County Building\, Room 330\, 316 N Park Ave\, Helena\, MT\, 59623\, United States
CATEGORIES:City or County Meeting
END:VEVENT
BEGIN:VEVENT
DTSTART;TZID=America/Denver:20280626T180000
DTEND;TZID=America/Denver:20280626T200000
DTSTAMP:20260423T052703
CREATED:20260113T024116Z
LAST-MODIFIED:20260403T215359Z
UID:10000841-1845655200-1845662400@wakinggiant.org
SUMMARY:Helena City Commission Meeting (Regular Meeting)
DESCRIPTION:See Helena City Commission webpage for schedules and agendas: https://www.helenamt.gov/Government/City-Commission
URL:https://wakinggiant.org/event/helena-city-commission-meetings-2-2/2028-06-26/
LOCATION:City County Building\, Room 330\, 316 N Park Ave\, Helena\, MT\, 59623\, United States
CATEGORIES:City or County Meeting
END:VEVENT
BEGIN:VEVENT
DTSTART;TZID=America/Denver:20280710T180000
DTEND;TZID=America/Denver:20280710T200000
DTSTAMP:20260423T052703
CREATED:20260113T024116Z
LAST-MODIFIED:20260403T215359Z
UID:10000842-1846864800-1846872000@wakinggiant.org
SUMMARY:Helena City Commission Meeting (Regular Meeting)
DESCRIPTION:See Helena City Commission webpage for schedules and agendas: https://www.helenamt.gov/Government/City-Commission
URL:https://wakinggiant.org/event/helena-city-commission-meetings-2-2/2028-07-10/
LOCATION:City County Building\, Room 330\, 316 N Park Ave\, Helena\, MT\, 59623\, United States
CATEGORIES:City or County Meeting
END:VEVENT
BEGIN:VEVENT
DTSTART;TZID=America/Denver:20280724T180000
DTEND;TZID=America/Denver:20280724T200000
DTSTAMP:20260423T052703
CREATED:20260113T024116Z
LAST-MODIFIED:20260403T215359Z
UID:10000843-1848074400-1848081600@wakinggiant.org
SUMMARY:Helena City Commission Meeting (Regular Meeting)
DESCRIPTION:See Helena City Commission webpage for schedules and agendas: https://www.helenamt.gov/Government/City-Commission
URL:https://wakinggiant.org/event/helena-city-commission-meetings-2-2/2028-07-24/
LOCATION:City County Building\, Room 330\, 316 N Park Ave\, Helena\, MT\, 59623\, United States
CATEGORIES:City or County Meeting
END:VEVENT
BEGIN:VEVENT
DTSTART;TZID=America/Denver:20280807T180000
DTEND;TZID=America/Denver:20280807T200000
DTSTAMP:20260423T052703
CREATED:20260113T024116Z
LAST-MODIFIED:20260403T215359Z
UID:10000844-1849284000-1849291200@wakinggiant.org
SUMMARY:Helena City Commission Meeting (Regular Meeting)
DESCRIPTION:See Helena City Commission webpage for schedules and agendas: https://www.helenamt.gov/Government/City-Commission
URL:https://wakinggiant.org/event/helena-city-commission-meetings-2-2/2028-08-07/
LOCATION:City County Building\, Room 330\, 316 N Park Ave\, Helena\, MT\, 59623\, United States
CATEGORIES:City or County Meeting
END:VEVENT
BEGIN:VEVENT
DTSTART;TZID=America/Denver:20280821T180000
DTEND;TZID=America/Denver:20280821T200000
DTSTAMP:20260423T052703
CREATED:20260113T024116Z
LAST-MODIFIED:20260403T215359Z
UID:10000845-1850493600-1850500800@wakinggiant.org
SUMMARY:Helena City Commission Meeting (Regular Meeting)
DESCRIPTION:See Helena City Commission webpage for schedules and agendas: https://www.helenamt.gov/Government/City-Commission
URL:https://wakinggiant.org/event/helena-city-commission-meetings-2-2/2028-08-21/
LOCATION:City County Building\, Room 330\, 316 N Park Ave\, Helena\, MT\, 59623\, United States
CATEGORIES:City or County Meeting
END:VEVENT
BEGIN:VEVENT
DTSTART;TZID=America/Denver:20280904T180000
DTEND;TZID=America/Denver:20280904T200000
DTSTAMP:20260423T052703
CREATED:20260113T024116Z
LAST-MODIFIED:20260403T215359Z
UID:10000846-1851703200-1851710400@wakinggiant.org
SUMMARY:Helena City Commission Meeting (Regular Meeting)
DESCRIPTION:See Helena City Commission webpage for schedules and agendas: https://www.helenamt.gov/Government/City-Commission
URL:https://wakinggiant.org/event/helena-city-commission-meetings-2-2/2028-09-04/
LOCATION:City County Building\, Room 330\, 316 N Park Ave\, Helena\, MT\, 59623\, United States
CATEGORIES:City or County Meeting
END:VEVENT
BEGIN:VEVENT
DTSTART;TZID=America/Denver:20280918T180000
DTEND;TZID=America/Denver:20280918T200000
DTSTAMP:20260423T052703
CREATED:20260113T024116Z
LAST-MODIFIED:20260403T215359Z
UID:10000847-1852912800-1852920000@wakinggiant.org
SUMMARY:Helena City Commission Meeting (Regular Meeting)
DESCRIPTION:See Helena City Commission webpage for schedules and agendas: https://www.helenamt.gov/Government/City-Commission
URL:https://wakinggiant.org/event/helena-city-commission-meetings-2-2/2028-09-18/
LOCATION:City County Building\, Room 330\, 316 N Park Ave\, Helena\, MT\, 59623\, United States
CATEGORIES:City or County Meeting
END:VEVENT
BEGIN:VEVENT
DTSTART;TZID=America/Denver:20281002T180000
DTEND;TZID=America/Denver:20281002T200000
DTSTAMP:20260423T052703
CREATED:20260113T024116Z
LAST-MODIFIED:20260403T215359Z
UID:10000848-1854122400-1854129600@wakinggiant.org
SUMMARY:Helena City Commission Meeting (Regular Meeting)
DESCRIPTION:See Helena City Commission webpage for schedules and agendas: https://www.helenamt.gov/Government/City-Commission
URL:https://wakinggiant.org/event/helena-city-commission-meetings-2-2/2028-10-02/
LOCATION:City County Building\, Room 330\, 316 N Park Ave\, Helena\, MT\, 59623\, United States
CATEGORIES:City or County Meeting
END:VEVENT
BEGIN:VEVENT
DTSTART;TZID=America/Denver:20281016T180000
DTEND;TZID=America/Denver:20281016T200000
DTSTAMP:20260423T052703
CREATED:20260113T024116Z
LAST-MODIFIED:20260403T215359Z
UID:10000849-1855332000-1855339200@wakinggiant.org
SUMMARY:Helena City Commission Meeting (Regular Meeting)
DESCRIPTION:See Helena City Commission webpage for schedules and agendas: https://www.helenamt.gov/Government/City-Commission
URL:https://wakinggiant.org/event/helena-city-commission-meetings-2-2/2028-10-16/
LOCATION:City County Building\, Room 330\, 316 N Park Ave\, Helena\, MT\, 59623\, United States
CATEGORIES:City or County Meeting
END:VEVENT
BEGIN:VEVENT
DTSTART;TZID=America/Denver:20281030T180000
DTEND;TZID=America/Denver:20281030T200000
DTSTAMP:20260423T052703
CREATED:20260113T024116Z
LAST-MODIFIED:20260403T215359Z
UID:10000850-1856541600-1856548800@wakinggiant.org
SUMMARY:Helena City Commission Meeting (Regular Meeting)
DESCRIPTION:See Helena City Commission webpage for schedules and agendas: https://www.helenamt.gov/Government/City-Commission
URL:https://wakinggiant.org/event/helena-city-commission-meetings-2-2/2028-10-30/
LOCATION:City County Building\, Room 330\, 316 N Park Ave\, Helena\, MT\, 59623\, United States
CATEGORIES:City or County Meeting
END:VEVENT
BEGIN:VEVENT
DTSTART;TZID=America/Denver:20281113T180000
DTEND;TZID=America/Denver:20281113T200000
DTSTAMP:20260423T052703
CREATED:20260113T024116Z
LAST-MODIFIED:20260403T215359Z
UID:10000851-1857751200-1857758400@wakinggiant.org
SUMMARY:Helena City Commission Meeting (Regular Meeting)
DESCRIPTION:See Helena City Commission webpage for schedules and agendas: https://www.helenamt.gov/Government/City-Commission
URL:https://wakinggiant.org/event/helena-city-commission-meetings-2-2/2028-11-13/
LOCATION:City County Building\, Room 330\, 316 N Park Ave\, Helena\, MT\, 59623\, United States
CATEGORIES:City or County Meeting
END:VEVENT
BEGIN:VEVENT
DTSTART;TZID=America/Denver:20281127T180000
DTEND;TZID=America/Denver:20281127T200000
DTSTAMP:20260423T052703
CREATED:20260113T024116Z
LAST-MODIFIED:20260403T215359Z
UID:10000852-1858960800-1858968000@wakinggiant.org
SUMMARY:Helena City Commission Meeting (Regular Meeting)
DESCRIPTION:See Helena City Commission webpage for schedules and agendas: https://www.helenamt.gov/Government/City-Commission
URL:https://wakinggiant.org/event/helena-city-commission-meetings-2-2/2028-11-27/
LOCATION:City County Building\, Room 330\, 316 N Park Ave\, Helena\, MT\, 59623\, United States
CATEGORIES:City or County Meeting
END:VEVENT
BEGIN:VEVENT
DTSTART;TZID=America/Denver:20281211T180000
DTEND;TZID=America/Denver:20281211T200000
DTSTAMP:20260423T052703
CREATED:20260113T024116Z
LAST-MODIFIED:20260403T215359Z
UID:10000853-1860170400-1860177600@wakinggiant.org
SUMMARY:Helena City Commission Meeting (Regular Meeting)
DESCRIPTION:See Helena City Commission webpage for schedules and agendas: https://www.helenamt.gov/Government/City-Commission
URL:https://wakinggiant.org/event/helena-city-commission-meetings-2-2/2028-12-11/
LOCATION:City County Building\, Room 330\, 316 N Park Ave\, Helena\, MT\, 59623\, United States
CATEGORIES:City or County Meeting
END:VEVENT
BEGIN:VEVENT
DTSTART;TZID=America/Denver:20281225T180000
DTEND;TZID=America/Denver:20281225T200000
DTSTAMP:20260423T052703
CREATED:20260113T024116Z
LAST-MODIFIED:20260403T215359Z
UID:10000854-1861380000-1861387200@wakinggiant.org
SUMMARY:Helena City Commission Meeting (Regular Meeting)
DESCRIPTION:See Helena City Commission webpage for schedules and agendas: https://www.helenamt.gov/Government/City-Commission
URL:https://wakinggiant.org/event/helena-city-commission-meetings-2-2/2028-12-25/
LOCATION:City County Building\, Room 330\, 316 N Park Ave\, Helena\, MT\, 59623\, United States
CATEGORIES:City or County Meeting
END:VEVENT
BEGIN:VEVENT
DTSTART;TZID=America/Denver:20290108T180000
DTEND;TZID=America/Denver:20290108T200000
DTSTAMP:20260423T052703
CREATED:20260113T024116Z
LAST-MODIFIED:20260403T215359Z
UID:10000855-1862589600-1862596800@wakinggiant.org
SUMMARY:Helena City Commission Meeting (Regular Meeting)
DESCRIPTION:See Helena City Commission webpage for schedules and agendas: https://www.helenamt.gov/Government/City-Commission
URL:https://wakinggiant.org/event/helena-city-commission-meetings-2-2/2029-01-08/
LOCATION:City County Building\, Room 330\, 316 N Park Ave\, Helena\, MT\, 59623\, United States
CATEGORIES:City or County Meeting
END:VEVENT
BEGIN:VEVENT
DTSTART;TZID=America/Denver:20290122T180000
DTEND;TZID=America/Denver:20290122T200000
DTSTAMP:20260423T052703
CREATED:20260113T024116Z
LAST-MODIFIED:20260403T215359Z
UID:10000856-1863799200-1863806400@wakinggiant.org
SUMMARY:Helena City Commission Meeting (Regular Meeting)
DESCRIPTION:See Helena City Commission webpage for schedules and agendas: https://www.helenamt.gov/Government/City-Commission
URL:https://wakinggiant.org/event/helena-city-commission-meetings-2-2/2029-01-22/
LOCATION:City County Building\, Room 330\, 316 N Park Ave\, Helena\, MT\, 59623\, United States
CATEGORIES:City or County Meeting
END:VEVENT
BEGIN:VEVENT
DTSTART;TZID=America/Denver:20290205T180000
DTEND;TZID=America/Denver:20290205T200000
DTSTAMP:20260423T052703
CREATED:20260113T024116Z
LAST-MODIFIED:20260403T215359Z
UID:10000857-1865008800-1865016000@wakinggiant.org
SUMMARY:Helena City Commission Meeting (Regular Meeting)
DESCRIPTION:See Helena City Commission webpage for schedules and agendas: https://www.helenamt.gov/Government/City-Commission
URL:https://wakinggiant.org/event/helena-city-commission-meetings-2-2/2029-02-05/
LOCATION:City County Building\, Room 330\, 316 N Park Ave\, Helena\, MT\, 59623\, United States
CATEGORIES:City or County Meeting
END:VEVENT
BEGIN:VEVENT
DTSTART;TZID=America/Denver:20290219T180000
DTEND;TZID=America/Denver:20290219T200000
DTSTAMP:20260423T052703
CREATED:20260113T024116Z
LAST-MODIFIED:20260403T215359Z
UID:10000858-1866218400-1866225600@wakinggiant.org
SUMMARY:Helena City Commission Meeting (Regular Meeting)
DESCRIPTION:See Helena City Commission webpage for schedules and agendas: https://www.helenamt.gov/Government/City-Commission
URL:https://wakinggiant.org/event/helena-city-commission-meetings-2-2/2029-02-19/
LOCATION:City County Building\, Room 330\, 316 N Park Ave\, Helena\, MT\, 59623\, United States
CATEGORIES:City or County Meeting
END:VEVENT
BEGIN:VEVENT
DTSTART;TZID=America/Denver:20290305T180000
DTEND;TZID=America/Denver:20290305T200000
DTSTAMP:20260423T052703
CREATED:20260113T024116Z
LAST-MODIFIED:20260403T215359Z
UID:10000859-1867428000-1867435200@wakinggiant.org
SUMMARY:Helena City Commission Meeting (Regular Meeting)
DESCRIPTION:See Helena City Commission webpage for schedules and agendas: https://www.helenamt.gov/Government/City-Commission
URL:https://wakinggiant.org/event/helena-city-commission-meetings-2-2/2029-03-05/
LOCATION:City County Building\, Room 330\, 316 N Park Ave\, Helena\, MT\, 59623\, United States
CATEGORIES:City or County Meeting
END:VEVENT
BEGIN:VEVENT
DTSTART;TZID=America/Denver:20290319T180000
DTEND;TZID=America/Denver:20290319T200000
DTSTAMP:20260423T052703
CREATED:20260113T024116Z
LAST-MODIFIED:20260403T215359Z
UID:10000860-1868637600-1868644800@wakinggiant.org
SUMMARY:Helena City Commission Meeting (Regular Meeting)
DESCRIPTION:See Helena City Commission webpage for schedules and agendas: https://www.helenamt.gov/Government/City-Commission
URL:https://wakinggiant.org/event/helena-city-commission-meetings-2-2/2029-03-19/
LOCATION:City County Building\, Room 330\, 316 N Park Ave\, Helena\, MT\, 59623\, United States
CATEGORIES:City or County Meeting
END:VEVENT
BEGIN:VEVENT
DTSTART;TZID=America/Denver:20290402T180000
DTEND;TZID=America/Denver:20290402T200000
DTSTAMP:20260423T052703
CREATED:20260113T024116Z
LAST-MODIFIED:20260403T215359Z
UID:10000861-1869847200-1869854400@wakinggiant.org
SUMMARY:Helena City Commission Meeting (Regular Meeting)
DESCRIPTION:See Helena City Commission webpage for schedules and agendas: https://www.helenamt.gov/Government/City-Commission
URL:https://wakinggiant.org/event/helena-city-commission-meetings-2-2/2029-04-02/
LOCATION:City County Building\, Room 330\, 316 N Park Ave\, Helena\, MT\, 59623\, United States
CATEGORIES:City or County Meeting
END:VEVENT
BEGIN:VEVENT
DTSTART;TZID=America/Denver:20290416T180000
DTEND;TZID=America/Denver:20290416T200000
DTSTAMP:20260423T052703
CREATED:20260113T024116Z
LAST-MODIFIED:20260403T215359Z
UID:10000862-1871056800-1871064000@wakinggiant.org
SUMMARY:Helena City Commission Meeting (Regular Meeting)
DESCRIPTION:See Helena City Commission webpage for schedules and agendas: https://www.helenamt.gov/Government/City-Commission
URL:https://wakinggiant.org/event/helena-city-commission-meetings-2-2/2029-04-16/
LOCATION:City County Building\, Room 330\, 316 N Park Ave\, Helena\, MT\, 59623\, United States
CATEGORIES:City or County Meeting
END:VEVENT
END:VCALENDAR