BEGIN:VCALENDAR
VERSION:2.0
PRODID:-//WAKING GIANT - ECPv6.15.20//NONSGML v1.0//EN
CALSCALE:GREGORIAN
METHOD:PUBLISH
X-WR-CALNAME:WAKING GIANT
X-ORIGINAL-URL:https://wakinggiant.org
X-WR-CALDESC:Events for WAKING GIANT
REFRESH-INTERVAL;VALUE=DURATION:PT1H
X-Robots-Tag:noindex
X-PUBLISHED-TTL:PT1H
BEGIN:VTIMEZONE
TZID:America/Denver
BEGIN:DAYLIGHT
TZOFFSETFROM:-0700
TZOFFSETTO:-0600
TZNAME:MDT
DTSTART:20250309T090000
END:DAYLIGHT
BEGIN:STANDARD
TZOFFSETFROM:-0600
TZOFFSETTO:-0700
TZNAME:MST
DTSTART:20251102T080000
END:STANDARD
BEGIN:DAYLIGHT
TZOFFSETFROM:-0700
TZOFFSETTO:-0600
TZNAME:MDT
DTSTART:20260308T090000
END:DAYLIGHT
BEGIN:STANDARD
TZOFFSETFROM:-0600
TZOFFSETTO:-0700
TZNAME:MST
DTSTART:20261101T080000
END:STANDARD
BEGIN:DAYLIGHT
TZOFFSETFROM:-0700
TZOFFSETTO:-0600
TZNAME:MDT
DTSTART:20270314T090000
END:DAYLIGHT
BEGIN:STANDARD
TZOFFSETFROM:-0600
TZOFFSETTO:-0700
TZNAME:MST
DTSTART:20271107T080000
END:STANDARD
BEGIN:DAYLIGHT
TZOFFSETFROM:-0700
TZOFFSETTO:-0600
TZNAME:MDT
DTSTART:20280312T090000
END:DAYLIGHT
BEGIN:STANDARD
TZOFFSETFROM:-0600
TZOFFSETTO:-0700
TZNAME:MST
DTSTART:20281105T080000
END:STANDARD
END:VTIMEZONE
BEGIN:VEVENT
DTSTART;TZID=America/Denver:20260504T180000
DTEND;TZID=America/Denver:20260504T200000
DTSTAMP:20260421T072738
CREATED:20260113T024116Z
LAST-MODIFIED:20260403T215359Z
UID:10000785-1777917600-1777924800@wakinggiant.org
SUMMARY:Helena City Commission Meeting (Regular Meeting)
DESCRIPTION:See Helena City Commission webpage for schedules and agendas: https://www.helenamt.gov/Government/City-Commission
URL:https://wakinggiant.org/event/helena-city-commission-meetings-2-2/2026-05-04/
LOCATION:City County Building\, Room 330\, 316 N Park Ave\, Helena\, MT\, 59623\, United States
CATEGORIES:City or County Meeting
END:VEVENT
BEGIN:VEVENT
DTSTART;TZID=America/Denver:20260518T180000
DTEND;TZID=America/Denver:20260518T200000
DTSTAMP:20260421T072738
CREATED:20260113T024116Z
LAST-MODIFIED:20260403T215359Z
UID:10000786-1779127200-1779134400@wakinggiant.org
SUMMARY:Helena City Commission Meeting (Regular Meeting)
DESCRIPTION:See Helena City Commission webpage for schedules and agendas: https://www.helenamt.gov/Government/City-Commission
URL:https://wakinggiant.org/event/helena-city-commission-meetings-2-2/2026-05-18/
LOCATION:City County Building\, Room 330\, 316 N Park Ave\, Helena\, MT\, 59623\, United States
CATEGORIES:City or County Meeting
END:VEVENT
BEGIN:VEVENT
DTSTART;TZID=America/Denver:20260601T180000
DTEND;TZID=America/Denver:20260601T200000
DTSTAMP:20260421T072738
CREATED:20260113T024116Z
LAST-MODIFIED:20260403T215359Z
UID:10000787-1780336800-1780344000@wakinggiant.org
SUMMARY:Helena City Commission Meeting (Regular Meeting)
DESCRIPTION:See Helena City Commission webpage for schedules and agendas: https://www.helenamt.gov/Government/City-Commission
URL:https://wakinggiant.org/event/helena-city-commission-meetings-2-2/2026-06-01/
LOCATION:City County Building\, Room 330\, 316 N Park Ave\, Helena\, MT\, 59623\, United States
CATEGORIES:City or County Meeting
END:VEVENT
BEGIN:VEVENT
DTSTART;TZID=America/Denver:20260615T180000
DTEND;TZID=America/Denver:20260615T200000
DTSTAMP:20260421T072738
CREATED:20260113T024116Z
LAST-MODIFIED:20260403T215359Z
UID:10000788-1781546400-1781553600@wakinggiant.org
SUMMARY:Helena City Commission Meeting (Regular Meeting)
DESCRIPTION:See Helena City Commission webpage for schedules and agendas: https://www.helenamt.gov/Government/City-Commission
URL:https://wakinggiant.org/event/helena-city-commission-meetings-2-2/2026-06-15/
LOCATION:City County Building\, Room 330\, 316 N Park Ave\, Helena\, MT\, 59623\, United States
CATEGORIES:City or County Meeting
END:VEVENT
BEGIN:VEVENT
DTSTART;TZID=America/Denver:20260629T180000
DTEND;TZID=America/Denver:20260629T200000
DTSTAMP:20260421T072738
CREATED:20260113T024116Z
LAST-MODIFIED:20260403T215359Z
UID:10000789-1782756000-1782763200@wakinggiant.org
SUMMARY:Helena City Commission Meeting (Regular Meeting)
DESCRIPTION:See Helena City Commission webpage for schedules and agendas: https://www.helenamt.gov/Government/City-Commission
URL:https://wakinggiant.org/event/helena-city-commission-meetings-2-2/2026-06-29/
LOCATION:City County Building\, Room 330\, 316 N Park Ave\, Helena\, MT\, 59623\, United States
CATEGORIES:City or County Meeting
END:VEVENT
BEGIN:VEVENT
DTSTART;TZID=America/Denver:20260713T180000
DTEND;TZID=America/Denver:20260713T200000
DTSTAMP:20260421T072738
CREATED:20260113T024116Z
LAST-MODIFIED:20260403T215359Z
UID:10000790-1783965600-1783972800@wakinggiant.org
SUMMARY:Helena City Commission Meeting (Regular Meeting)
DESCRIPTION:See Helena City Commission webpage for schedules and agendas: https://www.helenamt.gov/Government/City-Commission
URL:https://wakinggiant.org/event/helena-city-commission-meetings-2-2/2026-07-13/
LOCATION:City County Building\, Room 330\, 316 N Park Ave\, Helena\, MT\, 59623\, United States
CATEGORIES:City or County Meeting
END:VEVENT
BEGIN:VEVENT
DTSTART;TZID=America/Denver:20260727T180000
DTEND;TZID=America/Denver:20260727T200000
DTSTAMP:20260421T072738
CREATED:20260113T024116Z
LAST-MODIFIED:20260403T215359Z
UID:10000791-1785175200-1785182400@wakinggiant.org
SUMMARY:Helena City Commission Meeting (Regular Meeting)
DESCRIPTION:See Helena City Commission webpage for schedules and agendas: https://www.helenamt.gov/Government/City-Commission
URL:https://wakinggiant.org/event/helena-city-commission-meetings-2-2/2026-07-27/
LOCATION:City County Building\, Room 330\, 316 N Park Ave\, Helena\, MT\, 59623\, United States
CATEGORIES:City or County Meeting
END:VEVENT
BEGIN:VEVENT
DTSTART;TZID=America/Denver:20260810T180000
DTEND;TZID=America/Denver:20260810T200000
DTSTAMP:20260421T072738
CREATED:20260113T024116Z
LAST-MODIFIED:20260403T215359Z
UID:10000792-1786384800-1786392000@wakinggiant.org
SUMMARY:Helena City Commission Meeting (Regular Meeting)
DESCRIPTION:See Helena City Commission webpage for schedules and agendas: https://www.helenamt.gov/Government/City-Commission
URL:https://wakinggiant.org/event/helena-city-commission-meetings-2-2/2026-08-10/
LOCATION:City County Building\, Room 330\, 316 N Park Ave\, Helena\, MT\, 59623\, United States
CATEGORIES:City or County Meeting
END:VEVENT
BEGIN:VEVENT
DTSTART;TZID=America/Denver:20260824T180000
DTEND;TZID=America/Denver:20260824T200000
DTSTAMP:20260421T072738
CREATED:20260113T024116Z
LAST-MODIFIED:20260403T215359Z
UID:10000793-1787594400-1787601600@wakinggiant.org
SUMMARY:Helena City Commission Meeting (Regular Meeting)
DESCRIPTION:See Helena City Commission webpage for schedules and agendas: https://www.helenamt.gov/Government/City-Commission
URL:https://wakinggiant.org/event/helena-city-commission-meetings-2-2/2026-08-24/
LOCATION:City County Building\, Room 330\, 316 N Park Ave\, Helena\, MT\, 59623\, United States
CATEGORIES:City or County Meeting
END:VEVENT
BEGIN:VEVENT
DTSTART;TZID=America/Denver:20260907T180000
DTEND;TZID=America/Denver:20260907T200000
DTSTAMP:20260421T072738
CREATED:20260113T024116Z
LAST-MODIFIED:20260403T215359Z
UID:10000794-1788804000-1788811200@wakinggiant.org
SUMMARY:Helena City Commission Meeting (Regular Meeting)
DESCRIPTION:See Helena City Commission webpage for schedules and agendas: https://www.helenamt.gov/Government/City-Commission
URL:https://wakinggiant.org/event/helena-city-commission-meetings-2-2/2026-09-07/
LOCATION:City County Building\, Room 330\, 316 N Park Ave\, Helena\, MT\, 59623\, United States
CATEGORIES:City or County Meeting
END:VEVENT
BEGIN:VEVENT
DTSTART;TZID=America/Denver:20260921T180000
DTEND;TZID=America/Denver:20260921T200000
DTSTAMP:20260421T072738
CREATED:20260113T024116Z
LAST-MODIFIED:20260403T215359Z
UID:10000795-1790013600-1790020800@wakinggiant.org
SUMMARY:Helena City Commission Meeting (Regular Meeting)
DESCRIPTION:See Helena City Commission webpage for schedules and agendas: https://www.helenamt.gov/Government/City-Commission
URL:https://wakinggiant.org/event/helena-city-commission-meetings-2-2/2026-09-21/
LOCATION:City County Building\, Room 330\, 316 N Park Ave\, Helena\, MT\, 59623\, United States
CATEGORIES:City or County Meeting
END:VEVENT
BEGIN:VEVENT
DTSTART;TZID=America/Denver:20261005T180000
DTEND;TZID=America/Denver:20261005T200000
DTSTAMP:20260421T072738
CREATED:20260113T024116Z
LAST-MODIFIED:20260403T215359Z
UID:10000796-1791223200-1791230400@wakinggiant.org
SUMMARY:Helena City Commission Meeting (Regular Meeting)
DESCRIPTION:See Helena City Commission webpage for schedules and agendas: https://www.helenamt.gov/Government/City-Commission
URL:https://wakinggiant.org/event/helena-city-commission-meetings-2-2/2026-10-05/
LOCATION:City County Building\, Room 330\, 316 N Park Ave\, Helena\, MT\, 59623\, United States
CATEGORIES:City or County Meeting
END:VEVENT
BEGIN:VEVENT
DTSTART;TZID=America/Denver:20261019T180000
DTEND;TZID=America/Denver:20261019T200000
DTSTAMP:20260421T072738
CREATED:20260113T024116Z
LAST-MODIFIED:20260403T215359Z
UID:10000797-1792432800-1792440000@wakinggiant.org
SUMMARY:Helena City Commission Meeting (Regular Meeting)
DESCRIPTION:See Helena City Commission webpage for schedules and agendas: https://www.helenamt.gov/Government/City-Commission
URL:https://wakinggiant.org/event/helena-city-commission-meetings-2-2/2026-10-19/
LOCATION:City County Building\, Room 330\, 316 N Park Ave\, Helena\, MT\, 59623\, United States
CATEGORIES:City or County Meeting
END:VEVENT
BEGIN:VEVENT
DTSTART;TZID=America/Denver:20261102T180000
DTEND;TZID=America/Denver:20261102T200000
DTSTAMP:20260421T072738
CREATED:20260113T024116Z
LAST-MODIFIED:20260403T215359Z
UID:10000798-1793642400-1793649600@wakinggiant.org
SUMMARY:Helena City Commission Meeting (Regular Meeting)
DESCRIPTION:See Helena City Commission webpage for schedules and agendas: https://www.helenamt.gov/Government/City-Commission
URL:https://wakinggiant.org/event/helena-city-commission-meetings-2-2/2026-11-02/
LOCATION:City County Building\, Room 330\, 316 N Park Ave\, Helena\, MT\, 59623\, United States
CATEGORIES:City or County Meeting
END:VEVENT
BEGIN:VEVENT
DTSTART;TZID=America/Denver:20261116T180000
DTEND;TZID=America/Denver:20261116T200000
DTSTAMP:20260421T072738
CREATED:20260113T024116Z
LAST-MODIFIED:20260403T215359Z
UID:10000799-1794852000-1794859200@wakinggiant.org
SUMMARY:Helena City Commission Meeting (Regular Meeting)
DESCRIPTION:See Helena City Commission webpage for schedules and agendas: https://www.helenamt.gov/Government/City-Commission
URL:https://wakinggiant.org/event/helena-city-commission-meetings-2-2/2026-11-16/
LOCATION:City County Building\, Room 330\, 316 N Park Ave\, Helena\, MT\, 59623\, United States
CATEGORIES:City or County Meeting
END:VEVENT
BEGIN:VEVENT
DTSTART;TZID=America/Denver:20261130T180000
DTEND;TZID=America/Denver:20261130T200000
DTSTAMP:20260421T072738
CREATED:20260113T024116Z
LAST-MODIFIED:20260403T215359Z
UID:10000800-1796061600-1796068800@wakinggiant.org
SUMMARY:Helena City Commission Meeting (Regular Meeting)
DESCRIPTION:See Helena City Commission webpage for schedules and agendas: https://www.helenamt.gov/Government/City-Commission
URL:https://wakinggiant.org/event/helena-city-commission-meetings-2-2/2026-11-30/
LOCATION:City County Building\, Room 330\, 316 N Park Ave\, Helena\, MT\, 59623\, United States
CATEGORIES:City or County Meeting
END:VEVENT
BEGIN:VEVENT
DTSTART;TZID=America/Denver:20261214T180000
DTEND;TZID=America/Denver:20261214T200000
DTSTAMP:20260421T072738
CREATED:20260113T024116Z
LAST-MODIFIED:20260403T215359Z
UID:10000801-1797271200-1797278400@wakinggiant.org
SUMMARY:Helena City Commission Meeting (Regular Meeting)
DESCRIPTION:See Helena City Commission webpage for schedules and agendas: https://www.helenamt.gov/Government/City-Commission
URL:https://wakinggiant.org/event/helena-city-commission-meetings-2-2/2026-12-14/
LOCATION:City County Building\, Room 330\, 316 N Park Ave\, Helena\, MT\, 59623\, United States
CATEGORIES:City or County Meeting
END:VEVENT
BEGIN:VEVENT
DTSTART;TZID=America/Denver:20261228T180000
DTEND;TZID=America/Denver:20261228T200000
DTSTAMP:20260421T072738
CREATED:20260113T024116Z
LAST-MODIFIED:20260403T215359Z
UID:10000802-1798480800-1798488000@wakinggiant.org
SUMMARY:Helena City Commission Meeting (Regular Meeting)
DESCRIPTION:See Helena City Commission webpage for schedules and agendas: https://www.helenamt.gov/Government/City-Commission
URL:https://wakinggiant.org/event/helena-city-commission-meetings-2-2/2026-12-28/
LOCATION:City County Building\, Room 330\, 316 N Park Ave\, Helena\, MT\, 59623\, United States
CATEGORIES:City or County Meeting
END:VEVENT
BEGIN:VEVENT
DTSTART;TZID=America/Denver:20270111T180000
DTEND;TZID=America/Denver:20270111T200000
DTSTAMP:20260421T072738
CREATED:20260113T024116Z
LAST-MODIFIED:20260403T215359Z
UID:10000803-1799690400-1799697600@wakinggiant.org
SUMMARY:Helena City Commission Meeting (Regular Meeting)
DESCRIPTION:See Helena City Commission webpage for schedules and agendas: https://www.helenamt.gov/Government/City-Commission
URL:https://wakinggiant.org/event/helena-city-commission-meetings-2-2/2027-01-11/
LOCATION:City County Building\, Room 330\, 316 N Park Ave\, Helena\, MT\, 59623\, United States
CATEGORIES:City or County Meeting
END:VEVENT
BEGIN:VEVENT
DTSTART;TZID=America/Denver:20270125T180000
DTEND;TZID=America/Denver:20270125T200000
DTSTAMP:20260421T072738
CREATED:20260113T024116Z
LAST-MODIFIED:20260403T215359Z
UID:10000804-1800900000-1800907200@wakinggiant.org
SUMMARY:Helena City Commission Meeting (Regular Meeting)
DESCRIPTION:See Helena City Commission webpage for schedules and agendas: https://www.helenamt.gov/Government/City-Commission
URL:https://wakinggiant.org/event/helena-city-commission-meetings-2-2/2027-01-25/
LOCATION:City County Building\, Room 330\, 316 N Park Ave\, Helena\, MT\, 59623\, United States
CATEGORIES:City or County Meeting
END:VEVENT
BEGIN:VEVENT
DTSTART;TZID=America/Denver:20270208T180000
DTEND;TZID=America/Denver:20270208T200000
DTSTAMP:20260421T072738
CREATED:20260113T024116Z
LAST-MODIFIED:20260403T215359Z
UID:10000805-1802109600-1802116800@wakinggiant.org
SUMMARY:Helena City Commission Meeting (Regular Meeting)
DESCRIPTION:See Helena City Commission webpage for schedules and agendas: https://www.helenamt.gov/Government/City-Commission
URL:https://wakinggiant.org/event/helena-city-commission-meetings-2-2/2027-02-08/
LOCATION:City County Building\, Room 330\, 316 N Park Ave\, Helena\, MT\, 59623\, United States
CATEGORIES:City or County Meeting
END:VEVENT
BEGIN:VEVENT
DTSTART;TZID=America/Denver:20270222T180000
DTEND;TZID=America/Denver:20270222T200000
DTSTAMP:20260421T072738
CREATED:20260113T024116Z
LAST-MODIFIED:20260403T215359Z
UID:10000806-1803319200-1803326400@wakinggiant.org
SUMMARY:Helena City Commission Meeting (Regular Meeting)
DESCRIPTION:See Helena City Commission webpage for schedules and agendas: https://www.helenamt.gov/Government/City-Commission
URL:https://wakinggiant.org/event/helena-city-commission-meetings-2-2/2027-02-22/
LOCATION:City County Building\, Room 330\, 316 N Park Ave\, Helena\, MT\, 59623\, United States
CATEGORIES:City or County Meeting
END:VEVENT
BEGIN:VEVENT
DTSTART;TZID=America/Denver:20270308T180000
DTEND;TZID=America/Denver:20270308T200000
DTSTAMP:20260421T072738
CREATED:20260113T024116Z
LAST-MODIFIED:20260403T215359Z
UID:10000807-1804528800-1804536000@wakinggiant.org
SUMMARY:Helena City Commission Meeting (Regular Meeting)
DESCRIPTION:See Helena City Commission webpage for schedules and agendas: https://www.helenamt.gov/Government/City-Commission
URL:https://wakinggiant.org/event/helena-city-commission-meetings-2-2/2027-03-08/
LOCATION:City County Building\, Room 330\, 316 N Park Ave\, Helena\, MT\, 59623\, United States
CATEGORIES:City or County Meeting
END:VEVENT
BEGIN:VEVENT
DTSTART;TZID=America/Denver:20270322T180000
DTEND;TZID=America/Denver:20270322T200000
DTSTAMP:20260421T072738
CREATED:20260113T024116Z
LAST-MODIFIED:20260403T215359Z
UID:10000808-1805738400-1805745600@wakinggiant.org
SUMMARY:Helena City Commission Meeting (Regular Meeting)
DESCRIPTION:See Helena City Commission webpage for schedules and agendas: https://www.helenamt.gov/Government/City-Commission
URL:https://wakinggiant.org/event/helena-city-commission-meetings-2-2/2027-03-22/
LOCATION:City County Building\, Room 330\, 316 N Park Ave\, Helena\, MT\, 59623\, United States
CATEGORIES:City or County Meeting
END:VEVENT
BEGIN:VEVENT
DTSTART;TZID=America/Denver:20270405T180000
DTEND;TZID=America/Denver:20270405T200000
DTSTAMP:20260421T072738
CREATED:20260113T024116Z
LAST-MODIFIED:20260403T215359Z
UID:10000809-1806948000-1806955200@wakinggiant.org
SUMMARY:Helena City Commission Meeting (Regular Meeting)
DESCRIPTION:See Helena City Commission webpage for schedules and agendas: https://www.helenamt.gov/Government/City-Commission
URL:https://wakinggiant.org/event/helena-city-commission-meetings-2-2/2027-04-05/
LOCATION:City County Building\, Room 330\, 316 N Park Ave\, Helena\, MT\, 59623\, United States
CATEGORIES:City or County Meeting
END:VEVENT
BEGIN:VEVENT
DTSTART;TZID=America/Denver:20270419T180000
DTEND;TZID=America/Denver:20270419T200000
DTSTAMP:20260421T072738
CREATED:20260113T024116Z
LAST-MODIFIED:20260403T215359Z
UID:10000810-1808157600-1808164800@wakinggiant.org
SUMMARY:Helena City Commission Meeting (Regular Meeting)
DESCRIPTION:See Helena City Commission webpage for schedules and agendas: https://www.helenamt.gov/Government/City-Commission
URL:https://wakinggiant.org/event/helena-city-commission-meetings-2-2/2027-04-19/
LOCATION:City County Building\, Room 330\, 316 N Park Ave\, Helena\, MT\, 59623\, United States
CATEGORIES:City or County Meeting
END:VEVENT
BEGIN:VEVENT
DTSTART;TZID=America/Denver:20270503T180000
DTEND;TZID=America/Denver:20270503T200000
DTSTAMP:20260421T072738
CREATED:20260113T024116Z
LAST-MODIFIED:20260403T215359Z
UID:10000811-1809367200-1809374400@wakinggiant.org
SUMMARY:Helena City Commission Meeting (Regular Meeting)
DESCRIPTION:See Helena City Commission webpage for schedules and agendas: https://www.helenamt.gov/Government/City-Commission
URL:https://wakinggiant.org/event/helena-city-commission-meetings-2-2/2027-05-03/
LOCATION:City County Building\, Room 330\, 316 N Park Ave\, Helena\, MT\, 59623\, United States
CATEGORIES:City or County Meeting
END:VEVENT
BEGIN:VEVENT
DTSTART;TZID=America/Denver:20270517T180000
DTEND;TZID=America/Denver:20270517T200000
DTSTAMP:20260421T072738
CREATED:20260113T024116Z
LAST-MODIFIED:20260403T215359Z
UID:10000812-1810576800-1810584000@wakinggiant.org
SUMMARY:Helena City Commission Meeting (Regular Meeting)
DESCRIPTION:See Helena City Commission webpage for schedules and agendas: https://www.helenamt.gov/Government/City-Commission
URL:https://wakinggiant.org/event/helena-city-commission-meetings-2-2/2027-05-17/
LOCATION:City County Building\, Room 330\, 316 N Park Ave\, Helena\, MT\, 59623\, United States
CATEGORIES:City or County Meeting
END:VEVENT
BEGIN:VEVENT
DTSTART;TZID=America/Denver:20270531T180000
DTEND;TZID=America/Denver:20270531T200000
DTSTAMP:20260421T072738
CREATED:20260113T024116Z
LAST-MODIFIED:20260403T215359Z
UID:10000813-1811786400-1811793600@wakinggiant.org
SUMMARY:Helena City Commission Meeting (Regular Meeting)
DESCRIPTION:See Helena City Commission webpage for schedules and agendas: https://www.helenamt.gov/Government/City-Commission
URL:https://wakinggiant.org/event/helena-city-commission-meetings-2-2/2027-05-31/
LOCATION:City County Building\, Room 330\, 316 N Park Ave\, Helena\, MT\, 59623\, United States
CATEGORIES:City or County Meeting
END:VEVENT
BEGIN:VEVENT
DTSTART;TZID=America/Denver:20270614T180000
DTEND;TZID=America/Denver:20270614T200000
DTSTAMP:20260421T072738
CREATED:20260113T024116Z
LAST-MODIFIED:20260403T215359Z
UID:10000814-1812996000-1813003200@wakinggiant.org
SUMMARY:Helena City Commission Meeting (Regular Meeting)
DESCRIPTION:See Helena City Commission webpage for schedules and agendas: https://www.helenamt.gov/Government/City-Commission
URL:https://wakinggiant.org/event/helena-city-commission-meetings-2-2/2027-06-14/
LOCATION:City County Building\, Room 330\, 316 N Park Ave\, Helena\, MT\, 59623\, United States
CATEGORIES:City or County Meeting
END:VEVENT
END:VCALENDAR